{"text_format":"1","workbook":"xlsx","n_sheets":5,"sheets":["促進計画書（受け手）","3.経営状況（個人）","3.経営状況（農地所有適格法人）","別紙","ボツ"],"not_rendered":{"charts":0,"images":0,"macros":0,"external_links":1,"defined_names":5,"comments":0,"pivot_tables":0},"unopened":[],"bounds":{"document_bytes":16777216,"sheet_cells":100000,"rows_first":2000,"rows_last":500,"rows_between":2000,"halvings":0,"cell_chars":16384,"cell_head_chars":4096},"cells_cut":0,"cells_raw":0,"read":"whole","date_system":"1900"}

{"sheet":"促進計画書（受け手）","index":0,"n_rows":115,"n_cols":17,"rows_kept":115,"cut":false,"hidden":false,"merged":[[76,0,76,16],[75,0,75,16],[114,0,114,16],[113,0,113,16],[112,0,112,16],[111,0,111,16],[110,0,110,16],[109,0,109,16],[108,0,108,16],[107,0,107,16],[106,0,106,16],[105,0,105,16],[104,0,104,16],[85,5,87,8],[85,1,87,4],[88,12,90,15],[88,9,90,11],[88,5,90,8],[88,1,90,4],[97,11,99,15],[97,7,99,10],[97,1,99,6],[94,11,96,15],[94,7,96,10],[70,0,70,16],[69,0,69,16],[68,0,68,16],[67,0,67,16],[66,0,66,16],[65,0,65,16],[64,0,64,16],[103,0,103,16],[102,0,102,16],[101,0,101,16],[84,0,84,16],[92,0,92,16],[74,0,74,16],[73,0,73,16],[72,0,72,16],[71,0,71,16],[82,0,82,16],[81,0,81,16],[80,0,80,16],[79,0,79,16],[78,0,78,16],[77,0,77,16],[85,12,87,15],[85,9,87,11],[63,0,63,16],[62,0,62,16],[61,0,61,16],[60,0,60,16],[59,0,59,16],[58,0,58,16],[57,0,57,16],[56,0,56,16],[55,0,55,16],[54,0,54,16],[53,0,53,16],[52,0,52,16],[50,0,50,16],[51,0,51,16],[49,0,49,16],[48,0,48,16],[47,0,47,16],[46,0,46,16],[36,1,36,15],[25,1,25,15],[28,1,28,15],[29,1,29,15],[31,1,31,15],[32,1,32,15],[33,1,33,15],[21,15,24,15],[22,8,24,8],[22,9,24,9],[22,10,24,10],[22,11,24,11],[22,12,22,13],[23,1,24,1],[23,2,24,2],[23,3,24,3],[20,1,20,2],[21,1,21,6],[94,1,96,6],[21,7,21,14],[10,12,11,15],[22,1,22,4],[22,5,24,5],[22,6,23,6],[22,7,24,7],[13,12,13,15],[44,0,44,16],[45,0,45,16],[43,0,43,16],[42,0,42,16],[41,0,41,16],[40,0,40,16],[39,0,39,16],[23,4,24,4],[16,1,18,1],[16,2,16,5],[16,6,16,8],[23,12,24,12],[34,1,34,15],[35,1,35,15],[16,9,16,11],[17,2,18,5],[17,6,18,8],[17,9,18,11],[10,1,14,1],[10,2,11,2],[10,3,11,5],[10,6,11,7],[10,8,10,10],[12,6,12,7],[12,11,14,11],[13,6,14,7],[10,11,11,11],[11,8,11,10],[12,2,14,5],[12,8,14,10],[5,1,9,1],[5,2,6,2],[5,3,6,5],[5,6,6,7],[5,8,5,10],[5,12,6,15],[6,8,6,10],[7,2,9,5],[7,6,7,7],[7,8,7,10],[7,11,9,11],[7,12,9,15],[8,6,9,7],[8,8,8,10],[9,8,9,10],[5,11,6,11]]}
["（様式6－5）農用地利用集積等促進計画書(埼玉県農林公社→受け手)"]
[]
[null,null,null,null,null,null,"農　用　地　利　用　集　積　等　促　進　計　画　書　（記入例）",null,null,null,null,null,null,"捨印","捨印",null,1]
[null,null,null,null,null,null,null,null,null,null,null,null,null,"㊞","㊞"]
[]
[null,"賃借権又は使用貸借権の設定を行う者（甲）","〒","361-0013",null,null,"電話番号",null,"ﾌﾘｶﾞﾅ",null,null,"同意印","生年月日"]
[null,null,null,null,null,null,null,null,"ｺｳｴｷｼｬﾀﾞﾝﾎｳｼﾞﾝｻｲﾀﾏｹﾝﾉｳﾘﾝｺｳｼｬﾘｼﾞﾁｮｳ"]
[null,null,"埼玉県行田市大字真名板1975番1",null,null,null,"（昼間連絡がつく番号）",null,"（氏名又は名称）",null,null,"㊞"]
[null,null,null,null,null,null,"048-558-3555",null,"公益社団法人埼玉県農林公社"]
[null,null,null,null,null,null,null,null,"理事長   小畑　幹"]
[null,"賃借権又は使用貸借権の設定を受ける者（乙）","〒","350-0292",null,null,"電話番号",null,"ﾌﾘｶﾞﾅ",null,null,"同意印","生年月日"]
[null,null,null,null,null,null,null,null,"ノウギョウ　ジロウ"]
[null,null,"坂戸市千代田１－１－１",null,null,null,"（昼間連絡がつく番号）",null,"農業　次郎\n（法人の場合は法人名及び代表者名）",null,null,"㊞"]
[null,null,null,null,null,null,"〇〇〇－〇〇〇－〇〇〇〇",null,null,null,null,null,"昭和〇〇年〇〇月〇〇日"]
[]
[]
[null,"賃借権又は使用貸借権の設定に係る地域計画（A)","地域計画の公告日等",null,null,null,"地域計画の区域名",null,null,"（乙）が目標地図に位置付けられた者である"]
[null,null,null,null,null,null,null,null,null,"□\n（位置付けられていない場合は空欄）"]
[]
[]
[null,"１．　各筆明細"]
[null,"賃借権又は使用貸借権の設定を行う土地（B）",null,null,null,null,null,"（乙）に設定する権利（C）",null,null,null,null,null,null,null,"備　考"]
[null,"所　　　　在",null,null,null,"現況\n地目","面積","権　利\nの種類","内容\n(利用目的・\n作付作物等)","始期\n（年月日）","終期\n（年月日）","存続期間\n（年月）","借賃",null,"借賃の"]
[null,"市町村","大字 ","字","地　　番",null,null,null,null,null,null,null,"年額\n（円）","10aあたり","支払方法"]
[null,null,null,null,null,null,"（㎡）",null,null,null,null,null,null,"（円）","（支払期限）"]
[null,"　　別紙のとおり"]
[]
[null,"（記載注意）"]
[null,"（１） この各筆明細は、権利の設定を受ける者ごとに別葉とする。"]
[null,"（２）（Ｂ）欄の「面積」は登記記録の地積によるものとする。なお、１筆の一部について賃借権又は使用貸借権が設定される場合には、面積に貸借する面積を記載の上、備考に「登記面積○○○㎡のうち○○○㎡」のように記"]
[null,"　　載する。"]
[null,"（３）（C）欄の「権利の種類」は、「賃貸借」と「使用貸借」のいずれかを記載する。"]
[null,"（４）（C）欄の「内容」は、当該土地の利用目的（「水稲」「露地野菜」「施設野菜」「果樹」「花卉」等）を記載する。"]
[null,"（５）（C）欄の「存続期間」は、「○年」または「○年○か月」と記載する。"]
[null,"（６）（C）欄の「借賃」は、当該土地の１年分の総額と10ａあたりの単価額を記載する。10ａあたりの借賃が毎年の米価等により変動する場合、年額の欄に「支払時算出」、10ａあたりの欄に農協名、品種名、等級及び数量の概算"]
[null,"　　金（例：「JAほくさい 彩のかがやき一等米概算金30kg相当額」）として記載する。借賃が筆ごとに固定の場合は、10ａあたりの欄には「（固定借賃）」と記載する。また、使用貸借の場合、どちらの欄にも「０円」と記載する。"]
[null,"（７）（C）欄の「借賃の支払方法」は、「口座振込又は振替（12月末）」と記載する。"]
["２　共通事項"]
[]
["この農用地利用集積等促進計画の定めるところにより設定又は移転を受ける権利は、１に定めるもののほか、次に定めるところによる。"]
["（１）賃借権の設定等の条件"]
["　１に定める農地中間管理機構（以下「甲」という。）による賃貸借又は使用貸借による権利の設定（以下「賃借権の設定等」という。）は、賃借権の設定等を受ける者（以下「乙」という。）が当該賃借権の設定等を受けた土地について次のいずれかに該当するときは解除をすることを条件とする。"]
["ア　当該農用地等を適正に利用していないと認められるとき。"]
["イ　正当な理由なく、甲の求める農地中間管理事業の推進に関する法律第21条第１項の規定による報告をしないとき。"]
["（２）面積による借賃の増減額請求"]
["　甲及び乙は、当該土地の１の各筆明細に記載された面積と実測面積との間に差異があっても、異議を述べず、また、借賃の増減を請求しない。ただし、国土調査による成果及び土地改良事業による換地等に伴う面積の増減に関してはこの限りでない。"]
["（３）借賃の支払猶予"]
["　甲は、乙が災害その他やむを得ない事由のため、１において定められた借賃の支払期限までに借賃の支払をすることができない場合には、相当と認められる期日までにその支払を猶予する。"]
["（４）借賃の改訂"]
["　この農用地利用集積等促進計画を定めた後、借賃の改訂にあたっては、農地法第52条の農業委員会が提供する借賃の動向や地域関係者による協議結果等を勘案して、甲、乙が協議して定める額に改訂することができる。"]
["（５）借賃の減額"]
["ア　農地中間管理権の目的物が農地である場合で、乙から甲に対して農地法（昭和27年法律第229号）第20条又は民法609条の規定に基づく借賃の減額請求があり、甲が当該借賃を減額する場合には、甲は土地所有\n　者に対して、借賃の減額を請求することができる。減額されるべき額は、甲及び土地所有者が協議して定める。"]
["イ　目的物の一部が滅失その他の事由により使用及び収益をすることができなくなった場合で、甲又は乙の責めに帰することができない事由によるときは、賃料はその使用及び収益をすることができなくなった部\n　分の割合に応じて減額され、目的物が使用及び収益をすることが可能となったときは減額前の賃料に戻る。なお、賃料の減額の時期及び減額前の賃料に戻る時期並びに減額の割合については、作物の作付・収穫\n　の状況を踏まえて甲及び土地所有者が協議して定める。"]
["（６）転貸又は譲渡"]
["　乙は、本計画により権利の設定もしくは移転を受けた土地について転貸し、又は設定を受けた権利を譲渡してはならない。"]
["（７）遅延損害金"]
["ア　乙は、１の各筆明細に定める期日までに借賃を支払わない場合は、甲に対し、支払期日の翌日から支払日までの間を計算期間とする遅延損害金を支払わなければならない。"]
["イ  遅延損害金は、借賃の額に対し、年５パーセントの割合で計算して得た額とする。"]
["（８）修繕及び改良"]
["ア　甲は、乙の責に帰すべき事由によらないで生じた当該土地の損耗について、自らの費用と責任において当該土地を修繕する。ただし、緊急を要するときその他甲において修繕することができない場合で甲の同\n　意を得たときは、乙が修繕することができる。この場合において、乙が修繕の費用を支出したときは、甲に対して、その費用の償還を請求することができる。"]
["イ　乙は、農地法第４条第１項または第５条第１項の規定に基づく許可を要する改良や農業委員会への届出を要する改良を行う場合には、あらかじめ甲を経由して土地所有者の同意を得るものとする。"]
["ウ　修繕費又は改良費の負担及び償還は、別表１に定めたものを除き、民法、土地改良法等の法令に従う。"]
["（９）付属物の設置等"]
["ア　乙が、当該土地に果樹等の永年性作物、ハウス等の農業用施設（以下「附属物」という。）の設置を行う場合には、県または市町村及び農業委員会に事前に相談を行い、甲の同意を得る。"]
["イ　甲は、アの同意を行う場合には、事前に乙が附属物の設置を行うことについて土地所有者の同意を得る。また、乙が甲及び土地所有者の同意を得て附属物を設置した場合において、賃貸借又は使用貸借が終了\n　したときは、乙は土地所有者に対して直接当該附属物を収去する義務を負い、甲は土地所有者に対して収去の義務を負わない。"]
["ウ　ア及びイの規定にかかわらず、当該土地から分離することのできない附属物、分離するのに過分の費用を要する附属物及び土地所有者が附属物を収去しないことに同意しているときに限り、甲及び乙は収去の\n　義務を負わない。この場合、乙が支出した費用については、土地所有者が費用償還に同意している場合に限り、乙は土地所有者に対して償還の請求をすることができる。なおその額については、乙及び土地所有\n　者が協議して定める。"]
["（10）租税公課の負担"]
["ア　当該土地に対する固定資産税その他の租税は、土地所有者が負担する。"]
["イ　当該土地に係る土地改良区の賦課金等は、別表２に定めたものを除き土地所有者の負担とする。"]
["ウ　その他当該土地の通常の維持管理に要する経費は、乙の負担とする。"]
["（11）賃借権又は使用貸借権の終了"]
["　天災地変その他、甲及び乙並びに土地所有者の責に帰すべからざる理由により当該土地の全部又は一部が滅失し、その目的を達することができなくなったときは、この農用地利用集積等促進計画の定めるところにより設定又は移転された賃借権又は使用貸借権は終了する。"]
["　　乙は、使用貸借により権利を取得した1の各筆明細に記載された貸借期間において、甲の合意なしに使用貸借の解除をすることができないとともに、乙の死亡によって終了しない。"]
["（12）目的物の返還"]
["　賃借権又は使用貸借権の存続期間が満了したときは、乙は、その満了の日から３０日以内に、甲に対して、当該土地を原状に回復して返還（付属物の取扱については(９)による。）する。ただし、災害その他の不可抗力、修繕若しくは改良行為又は当該土地の通常の利用によって生ずる形質の変更については、乙は、原状回復の義務を負わない。"]
["（13）賃借権又は使用貸借権に関する事項の変更の禁止"]
["　甲及び乙は、この農用地利用集積等促進計画に定めるところにより設定又は移転される権利に関する事項は変更しないものとする。ただし、甲、乙、及び埼玉県または市町村が協議の上、真にやむを得ないと認められる場合は、この限りでない。"]
["（14）権利取得者の責務"]
["ア　乙は、この農用地利用集積等促進計画の定めるところに従い、目的物を効率的かつ適正に利用しなければならない。"]
["イ　乙は、農地中間管理事業の推進に関する法律（平成25年法律第101号）第21条第１項の規定により、甲から求められた場合、賃借権の設定等を受けた農用地等の利用の状況について、報告しなければならない。"]
["ウ　乙は、賃借権の設定等を受けた農用地等に、永年性作物の植栽及び農業用施設を設置しようとする場合、あらかじめ甲の同意を得るものとする。"]
["（15）その他"]
["　この農用地利用集積等促進計画に定めのない事項及び農用地利用集積等促進計画に関し疑義が生じたときは、甲、乙及び埼玉県または市町村が協議して定める。"]
[]
["　別表１　修繕費及び改良費の負担に係る特約事項　　"]
[null,"修繕または改良の工事名",null,null,null,"甲及び乙並びに土地所有者の費用に関する\n支払区分の内容",null,null,null,"甲及び乙の支払額について\n土地所有者の償還すべき額及び方法",null,null,"備　　考"]
[]
[]
[]
[]
[]
[]
["　別表２　土地改良区の賦課金等に係る特約事項"]
[]
[null,"賦課金等の種類",null,null,null,null,null,"負担区分の内容",null,null,null,"備　　考"]
[]
[]
[]
[]
[]
[]
["（添付書類）"]
["１　土地の登記事項証明書（全部事項証明書に限る(写し可)。）"]
[]
["２　賃借権又は使用貸借による権利の設定又は移転（（以下「賃借権の設定等」という。）を受ける者のうちに法人（地方公共団体及び独立行政法人通則法（平成11年法律第103号）第２条第１項に規定する独立行政法\n　人を除く。）が含まれる場合には、その定款又は寄附行為の写し"]
[]
["３　賃借権の設定等を受ける者が農地所有適格法人（農事組合法人又は株式会社であるものに限る。）である場合には、その組合員名簿又は株主名簿の写し"]
[]
["４　賃借権の設定等を受ける者のうちに農林漁業法人等に対する投資の円滑化に関する特別措置法（平成14年法律第52号）（以下「投資円滑化法」という。）第５条に規定する承認会社（以下「承認会社」という。）\n　を構成員とする農地所有適格法人が含まれる場合には、その構成員が承認会社であることを証する書面及びその構成員の株主名簿の写し"]
[]
["５　賃借権の設定等を受ける者のうち農地法施行令第２条第２項第３号に規定する法人が含まれる場合には、その法人が農地法施行規則（昭和27年農林省令第79号）第１６条第２項の要件を満たしていることを証する\n　書面"]
[]
["６　誓約書"]
[]
["７　その他参考となるべき書類"]

{"sheet":"3.経営状況（個人）","index":1,"n_rows":14,"n_cols":19,"rows_kept":14,"cut":false,"hidden":false,"merged":[[2,1,5,2],[9,3,9,4],[9,8,9,9],[8,8,8,9],[2,5,2,10],[6,1,6,2],[8,10,11,10],[10,8,11,8],[6,8,7,8],[6,10,6,11],[7,10,7,11],[2,17,2,18],[3,3,5,6],[3,7,5,7],[3,8,4,14],[5,8,5,9],[5,10,5,14],[2,3,2,4],[2,12,2,14],[2,15,2,16],[12,1,12,9],[12,10,13,18],[13,1,13,9],[10,1,10,2],[8,1,8,2],[10,3,11,6],[8,11,9,11],[10,11,11,11]]}
[]
[null,"３．賃借権又は使用貸借権の設定を受ける者（乙）の農業経営の状況等（法人以外）"]
[null,"賃借権又は使用貸借権の設定を受ける土地の面積(A)",null,"氏名",null,"農業　次郎",null,null,null,null,null,"農業従事日数","200 日",null,null,"家畜の飼養状況（Ｅ）",null,"農機具の所有状況（Ｆ）"]
[null,null,null,"現に耕作又は養畜の事業に供している\n農用地の面積(B)",null,null,null,"主たる経営 \n 作目(Ｃ)","世帯員(構成員)の農作業従事及び雇用労働力の状況(D)",null,null,null,null,null,null,"乳牛","頭","耕耘機","台"]
[null,null,null,null,null,null,null,null,null,null,null,null,null,null,null,"肥育牛","頭","トラクター","１　台"]
[null,null,null,null,null,null,null,null,"世帯員(構成員)",null,"農業従事者(うち１５歳以上６０歳未満の者)",null,null,null,null,"豚","頭","もみすり機","台"]
[null,"農地",null,"農地","自作地",100,"㎡","水稲",3,null,"農業専従者",null,null,null,null,"鶏","羽","乾燥機","台"]
[null,"〇〇","㎡",null,"借入地",500,"㎡",null,null,"人","（年150日以上従事）",null,2,"人　（","2　　人）",null,null,"田植機","台"]
[null,"採草放牧地",null,null,"合計",600,"㎡",null,"農業雇用労働力",null,"農業補助者","主として\n農業に従事する者",null,null,null,null,null,"コンバイン","１　台"]
[null,null,"㎡","採草放牧地",null,null,"㎡",null,"（年間延日数）",null,null,null,1,"人　（","0　　人）",null,null,"トラック","１　台"]
[null,"その他",null,null,null,null,null,null,500,null,null,"従として\n農業に従事する者"]
[null,null,"㎡",null,null,null,null,null,null,"延人日",null,null,null,"人　（","人）"]
[null,"権利設定等を受ける者が権利設定等を受けた後に行う耕作又は養畜の事業が、権利設定等",null,null,null,null,null,null,null,null,"なし"]
[null,"を受ける農用地等の周辺の農用地の農業上の利用に及ぼすことが見込まれる影響（Ｇ）"]

{"sheet":"3.経営状況（農地所有適格法人）","index":2,"n_rows":52,"n_cols":86,"rows_kept":52,"cut":false,"hidden":false,"merged":[[2,0,2,8],[2,9,2,19],[2,20,3,67],[3,9,3,19],[1,0,1,9],[1,10,1,13],[1,14,1,27],[1,28,1,70],[3,0,6,8],[6,68,6,78],[4,9,4,19],[4,20,5,67],[5,9,5,19],[2,68,5,78],[2,79,5,89],[1,80,1,89],[1,71,1,77],[1,78,1,79],[7,79,9,84],[6,9,6,19],[6,20,15,20],[6,21,6,35],[6,36,6,51],[6,52,6,67],[9,52,9,67],[10,9,21,12],[6,79,6,89],[12,52,13,67],[13,79,15,84],[8,36,8,51],[8,52,8,67],[16,79,18,84],[16,85,18,89],[18,68,21,73],[18,74,21,78],[19,79,21,84],[19,85,21,89],[20,21,21,35],[7,0,7,8],[7,9,7,19],[7,21,7,35],[7,36,7,51],[7,52,7,67],[7,68,9,73],[13,85,15,89],[14,21,15,35],[14,36,15,51],[14,52,15,67],[10,21,11,35],[10,36,11,51],[10,52,11,67],[10,68,13,73],[10,74,13,78],[14,68,17,73],[7,85,9,89],[8,0,8,8],[8,9,8,19],[8,21,8,35],[10,79,12,84],[10,85,12,89],[12,21,13,35],[12,36,13,51],[9,0,9,8],[9,9,9,19],[9,21,9,35],[9,36,9,51],[30,74,33,78],[22,9,33,12],[22,13,33,19],[10,0,18,2],[10,3,18,8],[14,74,17,78],[26,74,29,78],[20,52,33,67],[22,21,23,35],[22,36,23,51],[16,21,19,67],[7,74,9,78],[20,36,21,51],[10,13,21,19],[16,20,33,20],[22,74,25,78],[19,0,27,2],[19,3,27,8],[28,0,33,2],[28,3,33,8],[36,28,36,37],[36,38,38,46],[36,47,38,55],[22,79,24,84],[22,85,24,89],[24,21,27,35],[24,36,27,51],[25,79,27,84],[25,85,27,89],[38,70,38,74],[38,75,38,79],[38,80,38,84],[38,85,38,89],[28,21,29,35],[28,36,29,51],[28,79,30,84],[28,85,30,89],[30,21,33,35],[30,36,33,51],[30,68,33,73],[26,68,29,73],[22,68,25,73],[31,79,33,84],[41,85,42,89],[39,85,40,89],[39,38,40,46],[39,47,40,55],[39,56,40,69],[41,70,42,74],[41,75,42,79],[41,80,42,84],[31,85,33,89],[34,0,35,46],[34,47,35,89],[36,56,38,69],[36,70,36,89],[37,15,37,27],[37,28,37,37],[37,70,37,79],[37,80,37,89],[38,15,38,21],[38,22,38,27],[38,28,38,32],[38,33,38,37],[36,0,38,8],[36,9,38,14],[36,15,36,27],[39,0,40,8],[39,9,40,14],[39,15,40,21],[39,22,40,27],[39,28,40,32],[39,33,40,37],[39,70,40,74],[39,75,40,79],[39,80,40,84],[41,56,42,69],[47,0,48,8],[47,9,48,14],[47,15,48,21],[47,22,48,27],[47,28,48,32],[47,33,48,37],[41,0,42,8],[41,9,42,14],[41,15,42,21],[41,22,42,27],[41,28,42,32],[41,33,42,37],[41,38,42,46],[41,47,42,55],[43,0,44,8],[43,9,44,14],[43,15,44,21],[43,22,44,27],[43,28,44,32],[43,33,44,37],[43,85,44,89],[43,38,44,46],[43,47,44,55],[45,38,46,46],[45,47,46,55],[45,56,46,69],[47,70,48,74],[47,75,48,79],[47,80,48,84],[43,56,44,69],[43,70,44,74],[43,75,44,79],[43,80,44,84],[50,47,51,89],[45,70,46,74],[45,75,46,79],[45,80,46,84],[45,85,46,89],[51,0,51,46],[47,85,48,89],[49,0,49,14],[49,15,49,25],[49,26,49,28],[49,30,49,89],[50,0,50,46],[47,38,48,46],[47,47,48,55],[47,56,48,69],[45,0,46,8],[45,9,46,14],[45,15,46,21],[45,22,46,27],[45,28,46,32],[45,33,46,37]]}
["３．賃借権又は使用貸借権の設定を受ける者の農業経営の状況等（農地所有適格法人）"]
["整理番号",null,null,null,null,null,null,null,null,null,null,null,null,null,"法人の名称",null,null,null,null,null,null,null,null,null,null,null,null,null,"坂戸農業　株式会社"]
[null,null,null,null,null,null,null,null,null,null,null,null,null,null,null,null,null,null,null,null,"賃借権又は使用貸借権の設定を受ける法人の事業の状況（Ｃ）",null,null,null,null,null,null,null,null,null,null,null,null,null,null,null,null,null,null,null,null,null,null,null,null,null,null,null,null,null,null,null,null,null,null,null,null,null,null,null,null,null,null,null,null,null,null,null,"賃借権又は使用貸借権の設定を受ける法人の主な家畜の飼養の状況（Ｆ）",null,null,null,null,null,null,null,null,null,null,"賃借権又は使用貸借権の設定を受ける法人の主な農機具の所有の状況（Ｇ）"]
["賃借権又は使用貸借権の設定を受ける土地の面積（Ａ）",null,null,null,null,null,null,null,null,"賃借権又は使用貸借権"]
[null,null,null,null,null,null,null,null,null,"の設定を受ける法人",null,null,null,null,null,null,null,null,null,null,"　　　　　　事　　業　　の　　種　　類"]
[null,null,null,null,null,null,null,null,null,"が耕作又は養畜の"]
[null,null,null,null,null,null,null,null,null,"事業に供している農用",null,null,null,null,null,null,null,null,null,null,null,"農畜産物名",null,null,null,null,null,null,null,null,null,null,null,null,null,null,"関連事業等の内容",null,null,null,null,null,null,null,null,null,null,null,null,null,null,null,"左記以外の事業の内容"]
["　　　㎡",null,null,null,null,null,null,null,null,"地の面積 （Ｂ）",null,null,null,null,null,null,null,null,null,null,null,"　現在",null,null,null,null,null,null,null,null,null,null,null,null,null,null,"　現在",null,null,null,null,null,null,null,null,null,null,null,null,null,null,null,"　現在",null,null,null,null,null,null,null,null,null,null,null,null,null,null,null,"種類",null,null,null,null,null,"数量",null,null,null,null,"種類",null,null,null,null,null,"数量"]
[null,null,null,null,null,null,null,null,null,"㎡",null,null,null,null,null,null,null,null,null,null,null,"水稲"]
[]
["農地",null,null,"〇㎡",null,null,null,null,null,"農　地",null,null,null,null,null,null,null,null,null,null,null,"　権利取得後",null,null,null,null,null,null,null,null,null,null,null,null,null,null,"　権利取得後",null,null,null,null,null,null,null,null,null,null,null,null,null,null,null,"　権利取得後",null,null,null,null,null,null,null,null,null,null,null,null,null,null,null,"乳牛",null,null,null,null,null,null,null,null,null,null,"耕耘機",null,null,null,null,null,1]
[]
[]
[null,null,null,null,null,null,null,null,null,null,null,null,null,null,null,null,null,null,null,null,null,null,null,null,null,null,null,null,null,null,null,null,null,null,null,null,null,null,null,null,null,null,null,null,null,null,null,null,null,null,null,null,null,null,null,null,null,null,null,null,null,null,null,null,null,null,null,null,null,null,null,null,null,null,null,null,null,null,null,"トラクター"]
[null,null,null,null,null,null,null,null,null,null,null,null,null,null,null,null,null,null,null,null,null,null,null,null,null,null,null,null,null,null,null,null,null,null,null,null,null,null,null,null,null,null,null,null,null,null,null,null,null,null,null,null,null,null,null,null,null,null,null,null,null,null,null,null,null,null,null,null,"肥育牛"]
[]
[null,null,null,null,null,null,null,null,null,null,null,null,null,null,null,null,null,null,null,null,null,"事　業　の　実　施　状　況　及　び　実　施　計　画",null,null,null,null,null,null,null,null,null,null,null,null,null,null,null,null,null,null,null,null,null,null,null,null,null,null,null,null,null,null,null,null,null,null,null,null,null,null,null,null,null,null,null,null,null,null,null,null,null,null,null,null,null,null,null,null,null,"もみすり機"]
[]
[null,null,null,null,null,null,null,null,null,null,null,null,null,null,null,null,null,null,null,null,null,null,null,null,null,null,null,null,null,null,null,null,null,null,null,null,null,null,null,null,null,null,null,null,null,null,null,null,null,null,null,null,null,null,null,null,null,null,null,null,null,null,null,null,null,null,null,null,"豚"]
["採草\n放牧地",null,null,null,null,null,null,null,null,null,null,null,null,null,null,null,null,null,null,null,null,null,null,null,null,null,null,null,null,null,null,null,null,null,null,null,null,null,null,null,null,null,null,null,null,null,null,null,null,null,null,null,null,null,null,null,null,null,null,null,null,null,null,null,null,null,null,null,null,null,null,null,null,null,null,null,null,null,null,"乾燥機"]
[null,null,null,null,null,null,null,null,null,null,null,null,null,null,null,null,null,null,null,null,null,"農　業",null,null,null,null,null,null,null,null,null,null,null,null,null,null,"左記以外の事業"]
[]
[null,null,null,null,null,null,null,null,null,"採　草\n放牧地",null,null,null,null,null,null,null,null,null,null,null,"前年実績",null,null,null,null,null,null,null,null,null,null,null,null,null,null,"前年実績",null,null,null,null,null,null,null,null,null,null,null,null,null,null,null,null,null,null,null,null,null,null,null,null,null,null,null,null,null,null,null,"鶏",null,null,null,null,null,null,null,null,null,null,"田植機"]
[]
[null,null,null,null,null,null,null,null,null,null,null,null,null,null,null,null,null,null,null,null,null,"2,000,000円"]
[null,null,null,null,null,null,null,null,null,null,null,null,null,null,null,null,null,null,null,null,null,null,null,null,null,null,null,null,null,null,null,null,null,null,null,null,null,null,null,null,null,null,null,null,null,null,null,null,null,null,null,null,null,null,null,null,null,null,null,null,null,null,null,null,null,null,null,null,null,null,null,null,null,null,null,null,null,null,null,"コンバイン",null,null,null,null,null,1]
[]
[]
["その他",null,null,null,null,null,null,null,null,null,null,null,null,null,null,null,null,null,null,null,null,"５年後見込み",null,null,null,null,null,null,null,null,null,null,null,null,null,null,"５年後見込み",null,null,null,null,null,null,null,null,null,null,null,null,null,null,null,null,null,null,null,null,null,null,null,null,null,null,null,null,null,null,null,null,null,null,null,null,null,null,null,null,null,null,"トラック",null,null,null,null,null,1]
[]
[null,null,null,null,null,null,null,null,null,null,null,null,null,null,null,null,null,null,null,null,null,"2,200,000円"]
[]
[]
[]
["賃借権又は使用貸借権の設定を受ける法人の構成員の状況（Ｄ）",null,null,null,null,null,null,null,null,null,null,null,null,null,null,null,null,null,null,null,null,null,null,null,null,null,null,null,null,null,null,null,null,null,null,null,null,null,null,null,null,null,null,null,null,null,null,"賃借権又は使用貸借権の設定を受ける法人の業務執行役員等の状況（Ｅ）"]
[]
["氏名・名称",null,null,null,null,null,null,null,null,"議決権又は株式の数",null,null,null,null,null,"　　法人への農地等の権利",null,null,null,null,null,null,null,null,null,null,null,null,"年間農業従事日数",null,null,null,null,null,null,null,null,null,"法人と構成員との\n取引関係等の\n内　容",null,null,null,null,null,null,null,null,"氏　名",null,null,null,null,null,null,null,null,"住　所",null,null,null,null,null,null,null,null,null,null,null,null,null,"　年間農業従事日数"]
[null,null,null,null,null,null,null,null,null,null,null,null,null,null,null,"　　設定・移転",null,null,null,null,null,null,null,null,null,null,null,null,null,null,null,null,null,null,null,null,null,null,null,null,null,null,null,null,null,null,null,null,null,null,null,null,null,null,null,null,null,null,null,null,null,null,null,null,null,null,null,null,null,null,null,null,null,null,null,null,null,null,null,null,"年間農作業従事日数"]
[null,null,null,null,null,null,null,null,null,null,null,null,null,null,null,"権利の種類",null,null,null,null,null,null,"面　積",null,null,null,null,null,"前年実績",null,null,null,null,"見込み",null,null,null,null,null,null,null,null,null,null,null,null,null,null,null,null,null,null,null,null,null,null,null,null,null,null,null,null,null,null,null,null,null,null,null,null,"前年実績",null,null,null,null,"見込み",null,null,null,null,"前年実績",null,null,null,null,"見込み"]
["農業　三郎",null,null,null,null,null,null,null,null,10,null,null,null,null,null,null,null,null,null,null,null,null,null,null,null,null,null,null,"220日",null,null,null,null,"220日",null,null,null,null,null,null,null,null,null,null,null,null,null,"農業　三郎",null,null,null,null,null,null,null,null,"坂戸市千代田１－１－１",null,null,null,null,null,null,null,null,null,null,null,null,null,"220日",null,null,null,null,"220日",null,null,null,null,"180日",null,null,null,null,"180日"]
[]
["農業　花子",null,null,null,null,null,null,null,null,10,null,null,null,null,null,null,null,null,null,null,null,null,null,null,null,null,null,null,"220日",null,null,null,null,"220日",null,null,null,null,null,null,null,null,null,null,null,null,null,"農業　花子",null,null,null,null,null,null,null,null,"坂戸市千代田１－１－１",null,null,null,null,null,null,null,null,null,null,null,null,null,"220日",null,null,null,null,"220日",null,null,null,null,"180日",null,null,null,null,"180日"]
[]
["農業　四郎",null,null,null,null,null,null,null,null,2,null,null,null,null,null,null,null,null,null,null,null,null,null,null,null,null,null,null,"100日",null,null,null,null,"100日"]
[]
[]
[]
[]
[]
["雇用労働力　（年間延日数）",null,null,null,null,null,null,null,null,null,null,null,null,null,null,540,null,null,null,null,null,null,null,null,null,null,"人日"]
["権利設定等を受ける者が権利設定等を受けた後に行う耕作又は養畜の事業が、権利設定等",null,null,null,null,null,null,null,null,null,null,null,null,null,null,null,null,null,null,null,null,null,null,null,null,null,null,null,null,null,null,null,null,null,null,null,null,null,null,null,null,null,null,null,null,null,null,"なし"]
["を受ける農用地等の周辺の農用地の農業上の利用に及ぼすことが見込まれる影響（Ｈ）"]

{"sheet":"別紙","index":3,"n_rows":122,"n_cols":16,"rows_kept":122,"cut":false,"hidden":false,"merged":[[0,1,0,2],[0,14,0,15],[1,1,1,6],[1,7,1,14],[1,15,4,15],[2,1,2,4],[2,5,4,5],[2,6,3,6],[2,7,4,7],[2,8,4,8],[2,9,4,9],[2,10,4,10],[2,11,4,11],[2,12,2,13],[3,1,4,1],[3,2,4,2],[3,3,4,3],[3,4,4,4],[3,12,4,12]]}
[null,"別紙（記入例）"]
[null,"賃借権又は使用貸借権の設定を行う土地（B）",null,null,null,null,null,"（乙）に設定する権利（C）",null,null,null,null,null,null,null,"備　考"]
[null,"所　　　　在",null,null,null,"現況\n地目","面積","権　利\nの種類","内容\n(利用目的・\n作付作物等)","始期\n（年月日）","終期\n（年月日）","存続期間\n（年月）","借賃",null,"借賃の"]
[null,"市町村","大字 ","字","地　　番",null,null,null,null,null,null,null,"年額\n（円）","10aあたり","支払方法"]
[null,null,null,null,null,null,"（㎡）",null,null,null,null,null,null,"（円）","（支払期限）"]
[1,"坂戸市","〇〇","〇〇","〇〇－〇","田","〇〇〇","使用貸借","水田利用","令和7年6月1日","令和〇年5月31日","〇年","0円","0円"]
[2,"坂戸市","〇〇","〇〇","〇〇－〇","畑","〇〇〇","賃貸借","普通畑利用","令和7年6月1日","令和〇年5月31日","〇年","〇〇円","〇〇円","口座\n（12月末日）"]
[3,"坂戸市","〇〇","〇〇","〇〇－〇","田","〇〇〇","賃貸借","水田利用","令和7年6月1日","令和〇年5月31日","〇年","〇〇円","〇〇円","口座\n（12月末日）"]
[4,{"$f":"IF(C9=\"\",\"\",\"坂戸市\")","v":""},{"$f":"IFERROR(VLOOKUP('[1]促進計画書（出し手用）A４'!$T$6&\"-\"&A9,[1]利用権終期一覧!C5:R166,2,FALSE),\"\")","v":""},{"$f":"IFERROR(VLOOKUP('[1]促進計画書（出し手用）A４'!$T$6&\"-\"&A9,[1]利用権終期一覧!C5:R166,3,FALSE),\"\")","v":""},{"$f":"IFERROR(VLOOKUP('[1]促進計画書（出し手用）A４'!$T$6&\"-\"&A9,[1]利用権終期一覧!C5:R166,6,FALSE),\"\")","v":""},{"$f":"IFERROR(VLOOKUP('[1]促進計画書（出し手用）A４'!$T$6&\"-\"&A9,[1]利用権終期一覧!C5:R166,8,FALSE),\"\")","v":""},{"$f":"IFERROR(VLOOKUP('[1]促進計画書（出し手用）A４'!$T$6&\"-\"&A9,[1]利用権終期一覧!C5:R166,9,FALSE),\"\")","v":""},null,{"$f":"IF(F9=\"田\",\"水田利用\",IF(F9=\"畑\",\"普通畑利用\",\"\"))","v":""},{"$f":"IF(I9=\"\",\"\",\"令和7年6月1日\")","v":""}]
[5,"",{"$f":"IFERROR(VLOOKUP('[1]促進計画書（出し手用）A４'!$T$6&\"-\"&A10,[1]利用権終期一覧!C6:R167,2,FALSE),\"\")","v":""},{"$f":"IFERROR(VLOOKUP('[1]促進計画書（出し手用）A４'!$T$6&\"-\"&A10,[1]利用権終期一覧!C6:R167,3,FALSE),\"\")","v":""},{"$f":"IFERROR(VLOOKUP('[1]促進計画書（出し手用）A４'!$T$6&\"-\"&A10,[1]利用権終期一覧!C6:R167,6,FALSE),\"\")","v":""},{"$f":"IFERROR(VLOOKUP('[1]促進計画書（出し手用）A４'!$T$6&\"-\"&A10,[1]利用権終期一覧!C6:R167,8,FALSE),\"\")","v":""},{"$f":"IFERROR(VLOOKUP('[1]促進計画書（出し手用）A４'!$T$6&\"-\"&A10,[1]利用権終期一覧!C6:R167,9,FALSE),\"\")","v":""},null,"",""]
[6,"",{"$f":"IFERROR(VLOOKUP('[1]促進計画書（出し手用）A４'!$T$6&\"-\"&A11,[1]利用権終期一覧!C7:R168,2,FALSE),\"\")","v":""},{"$f":"IFERROR(VLOOKUP('[1]促進計画書（出し手用）A４'!$T$6&\"-\"&A11,[1]利用権終期一覧!C7:R168,3,FALSE),\"\")","v":""},{"$f":"IFERROR(VLOOKUP('[1]促進計画書（出し手用）A４'!$T$6&\"-\"&A11,[1]利用権終期一覧!C7:R168,6,FALSE),\"\")","v":""},{"$f":"IFERROR(VLOOKUP('[1]促進計画書（出し手用）A４'!$T$6&\"-\"&A11,[1]利用権終期一覧!C7:R168,8,FALSE),\"\")","v":""},{"$f":"IFERROR(VLOOKUP('[1]促進計画書（出し手用）A４'!$T$6&\"-\"&A11,[1]利用権終期一覧!C7:R168,9,FALSE),\"\")","v":""},null,"",""]
[7,"",{"$f":"IFERROR(VLOOKUP('[1]促進計画書（出し手用）A４'!$T$6&\"-\"&A12,[1]利用権終期一覧!C8:R169,2,FALSE),\"\")","v":""},{"$f":"IFERROR(VLOOKUP('[1]促進計画書（出し手用）A４'!$T$6&\"-\"&A12,[1]利用権終期一覧!C8:R169,3,FALSE),\"\")","v":""},{"$f":"IFERROR(VLOOKUP('[1]促進計画書（出し手用）A４'!$T$6&\"-\"&A12,[1]利用権終期一覧!C8:R169,6,FALSE),\"\")","v":""},{"$f":"IFERROR(VLOOKUP('[1]促進計画書（出し手用）A４'!$T$6&\"-\"&A12,[1]利用権終期一覧!C8:R169,8,FALSE),\"\")","v":""},{"$f":"IFERROR(VLOOKUP('[1]促進計画書（出し手用）A４'!$T$6&\"-\"&A12,[1]利用権終期一覧!C8:R169,9,FALSE),\"\")","v":""},null,"",""]
[8,"",{"$f":"IFERROR(VLOOKUP('[1]促進計画書（出し手用）A４'!$T$6&\"-\"&A13,[1]利用権終期一覧!C9:R170,2,FALSE),\"\")","v":""},{"$f":"IFERROR(VLOOKUP('[1]促進計画書（出し手用）A４'!$T$6&\"-\"&A13,[1]利用権終期一覧!C9:R170,3,FALSE),\"\")","v":""},{"$f":"IFERROR(VLOOKUP('[1]促進計画書（出し手用）A４'!$T$6&\"-\"&A13,[1]利用権終期一覧!C9:R170,6,FALSE),\"\")","v":""},{"$f":"IFERROR(VLOOKUP('[1]促進計画書（出し手用）A４'!$T$6&\"-\"&A13,[1]利用権終期一覧!C9:R170,8,FALSE),\"\")","v":""},{"$f":"IFERROR(VLOOKUP('[1]促進計画書（出し手用）A４'!$T$6&\"-\"&A13,[1]利用権終期一覧!C9:R170,9,FALSE),\"\")","v":""},null,"",""]
[9,"",{"$f":"IFERROR(VLOOKUP('[1]促進計画書（出し手用）A４'!$T$6&\"-\"&A14,[1]利用権終期一覧!C10:R171,2,FALSE),\"\")","v":""},{"$f":"IFERROR(VLOOKUP('[1]促進計画書（出し手用）A４'!$T$6&\"-\"&A14,[1]利用権終期一覧!C10:R171,3,FALSE),\"\")","v":""},{"$f":"IFERROR(VLOOKUP('[1]促進計画書（出し手用）A４'!$T$6&\"-\"&A14,[1]利用権終期一覧!C10:R171,6,FALSE),\"\")","v":""},{"$f":"IFERROR(VLOOKUP('[1]促進計画書（出し手用）A４'!$T$6&\"-\"&A14,[1]利用権終期一覧!C10:R171,8,FALSE),\"\")","v":""},{"$f":"IFERROR(VLOOKUP('[1]促進計画書（出し手用）A４'!$T$6&\"-\"&A14,[1]利用権終期一覧!C10:R171,9,FALSE),\"\")","v":""},null,"",""]
[10,{"$f":"IFERROR(VLOOKUP('促進計画書（受け手）'!#REF!&\"-\"&A15,#REF!,2,FALSE),\"\")","v":""},{"$f":"IFERROR(VLOOKUP('促進計画書（受け手）'!#REF!&\"-\"&A15,#REF!,3,FALSE),\"\")","v":""},{"$f":"IFERROR(VLOOKUP('促進計画書（受け手）'!#REF!&\"-\"&A15,#REF!,4,FALSE),\"\")","v":""},{"$f":"IFERROR(VLOOKUP('促進計画書（受け手）'!#REF!&\"-\"&A15,#REF!,10,FALSE),\"\")","v":""},{"$f":"IFERROR(VLOOKUP('促進計画書（受け手）'!#REF!&\"-\"&A15,#REF!,12,FALSE),\"\")","v":""},{"$f":"IFERROR(VLOOKUP('促進計画書（受け手）'!#REF!&\"-\"&A15,#REF!,13,FALSE),\"\")","v":""},null,{"$f":"IF(F15=\"田\",\"水田利用\",IF(F15=\"畑\",\"普通畑利用\",\"\"))","v":""},{"$f":"IF(I15=\"\",\"\",\"令和7年6月1日\")","v":""}]
[11,{"$f":"IFERROR(VLOOKUP('促進計画書（受け手）'!#REF!&\"-\"&A16,#REF!,2,FALSE),\"\")","v":""},{"$f":"IFERROR(VLOOKUP('促進計画書（受け手）'!#REF!&\"-\"&A16,#REF!,3,FALSE),\"\")","v":""},{"$f":"IFERROR(VLOOKUP('促進計画書（受け手）'!#REF!&\"-\"&A16,#REF!,4,FALSE),\"\")","v":""},{"$f":"IFERROR(VLOOKUP('促進計画書（受け手）'!#REF!&\"-\"&A16,#REF!,10,FALSE),\"\")","v":""},{"$f":"IFERROR(VLOOKUP('促進計画書（受け手）'!#REF!&\"-\"&A16,#REF!,12,FALSE),\"\")","v":""},{"$f":"IFERROR(VLOOKUP('促進計画書（受け手）'!#REF!&\"-\"&A16,#REF!,13,FALSE),\"\")","v":""},null,"",""]
[12,{"$f":"IFERROR(VLOOKUP('促進計画書（受け手）'!#REF!&\"-\"&A17,#REF!,2,FALSE),\"\")","v":""},{"$f":"IFERROR(VLOOKUP('促進計画書（受け手）'!#REF!&\"-\"&A17,#REF!,3,FALSE),\"\")","v":""},{"$f":"IFERROR(VLOOKUP('促進計画書（受け手）'!#REF!&\"-\"&A17,#REF!,4,FALSE),\"\")","v":""},{"$f":"IFERROR(VLOOKUP('促進計画書（受け手）'!#REF!&\"-\"&A17,#REF!,10,FALSE),\"\")","v":""},{"$f":"IFERROR(VLOOKUP('促進計画書（受け手）'!#REF!&\"-\"&A17,#REF!,12,FALSE),\"\")","v":""},{"$f":"IFERROR(VLOOKUP('促進計画書（受け手）'!#REF!&\"-\"&A17,#REF!,13,FALSE),\"\")","v":""},null,"",""]
[13,{"$f":"IFERROR(VLOOKUP('促進計画書（受け手）'!#REF!&\"-\"&A18,#REF!,2,FALSE),\"\")","v":""},{"$f":"IFERROR(VLOOKUP('促進計画書（受け手）'!#REF!&\"-\"&A18,#REF!,3,FALSE),\"\")","v":""},{"$f":"IFERROR(VLOOKUP('促進計画書（受け手）'!#REF!&\"-\"&A18,#REF!,4,FALSE),\"\")","v":""},{"$f":"IFERROR(VLOOKUP('促進計画書（受け手）'!#REF!&\"-\"&A18,#REF!,10,FALSE),\"\")","v":""},{"$f":"IFERROR(VLOOKUP('促進計画書（受け手）'!#REF!&\"-\"&A18,#REF!,12,FALSE),\"\")","v":""},{"$f":"IFERROR(VLOOKUP('促進計画書（受け手）'!#REF!&\"-\"&A18,#REF!,13,FALSE),\"\")","v":""},null,"",""]
[14,{"$f":"IFERROR(VLOOKUP('促進計画書（受け手）'!#REF!&\"-\"&A19,#REF!,2,FALSE),\"\")","v":""},{"$f":"IFERROR(VLOOKUP('促進計画書（受け手）'!#REF!&\"-\"&A19,#REF!,3,FALSE),\"\")","v":""},{"$f":"IFERROR(VLOOKUP('促進計画書（受け手）'!#REF!&\"-\"&A19,#REF!,4,FALSE),\"\")","v":""},{"$f":"IFERROR(VLOOKUP('促進計画書（受け手）'!#REF!&\"-\"&A19,#REF!,10,FALSE),\"\")","v":""},{"$f":"IFERROR(VLOOKUP('促進計画書（受け手）'!#REF!&\"-\"&A19,#REF!,12,FALSE),\"\")","v":""},{"$f":"IFERROR(VLOOKUP('促進計画書（受け手）'!#REF!&\"-\"&A19,#REF!,13,FALSE),\"\")","v":""},null,"",""]
[15,{"$f":"IFERROR(VLOOKUP('促進計画書（受け手）'!#REF!&\"-\"&A20,#REF!,2,FALSE),\"\")","v":""},{"$f":"IFERROR(VLOOKUP('促進計画書（受け手）'!#REF!&\"-\"&A20,#REF!,3,FALSE),\"\")","v":""},{"$f":"IFERROR(VLOOKUP('促進計画書（受け手）'!#REF!&\"-\"&A20,#REF!,4,FALSE),\"\")","v":""},{"$f":"IFERROR(VLOOKUP('促進計画書（受け手）'!#REF!&\"-\"&A20,#REF!,10,FALSE),\"\")","v":""},{"$f":"IFERROR(VLOOKUP('促進計画書（受け手）'!#REF!&\"-\"&A20,#REF!,12,FALSE),\"\")","v":""},{"$f":"IFERROR(VLOOKUP('促進計画書（受け手）'!#REF!&\"-\"&A20,#REF!,13,FALSE),\"\")","v":""},null,"",""]
[16,{"$f":"IFERROR(VLOOKUP('促進計画書（受け手）'!#REF!&\"-\"&A21,#REF!,2,FALSE),\"\")","v":""},{"$f":"IFERROR(VLOOKUP('促進計画書（受け手）'!#REF!&\"-\"&A21,#REF!,3,FALSE),\"\")","v":""},{"$f":"IFERROR(VLOOKUP('促進計画書（受け手）'!#REF!&\"-\"&A21,#REF!,4,FALSE),\"\")","v":""},{"$f":"IFERROR(VLOOKUP('促進計画書（受け手）'!#REF!&\"-\"&A21,#REF!,10,FALSE),\"\")","v":""},{"$f":"IFERROR(VLOOKUP('促進計画書（受け手）'!#REF!&\"-\"&A21,#REF!,12,FALSE),\"\")","v":""},{"$f":"IFERROR(VLOOKUP('促進計画書（受け手）'!#REF!&\"-\"&A21,#REF!,13,FALSE),\"\")","v":""},null,"",""]
[17,{"$f":"IFERROR(VLOOKUP('促進計画書（受け手）'!#REF!&\"-\"&A22,#REF!,2,FALSE),\"\")","v":""},{"$f":"IFERROR(VLOOKUP('促進計画書（受け手）'!#REF!&\"-\"&A22,#REF!,3,FALSE),\"\")","v":""},{"$f":"IFERROR(VLOOKUP('促進計画書（受け手）'!#REF!&\"-\"&A22,#REF!,4,FALSE),\"\")","v":""},{"$f":"IFERROR(VLOOKUP('促進計画書（受け手）'!#REF!&\"-\"&A22,#REF!,10,FALSE),\"\")","v":""},{"$f":"IFERROR(VLOOKUP('促進計画書（受け手）'!#REF!&\"-\"&A22,#REF!,12,FALSE),\"\")","v":""},{"$f":"IFERROR(VLOOKUP('促進計画書（受け手）'!#REF!&\"-\"&A22,#REF!,13,FALSE),\"\")","v":""},null,"",""]
[18,{"$f":"IFERROR(VLOOKUP('促進計画書（受け手）'!#REF!&\"-\"&A23,#REF!,2,FALSE),\"\")","v":""},{"$f":"IFERROR(VLOOKUP('促進計画書（受け手）'!#REF!&\"-\"&A23,#REF!,3,FALSE),\"\")","v":""},{"$f":"IFERROR(VLOOKUP('促進計画書（受け手）'!#REF!&\"-\"&A23,#REF!,4,FALSE),\"\")","v":""},{"$f":"IFERROR(VLOOKUP('促進計画書（受け手）'!#REF!&\"-\"&A23,#REF!,10,FALSE),\"\")","v":""},{"$f":"IFERROR(VLOOKUP('促進計画書（受け手）'!#REF!&\"-\"&A23,#REF!,12,FALSE),\"\")","v":""},{"$f":"IFERROR(VLOOKUP('促進計画書（受け手）'!#REF!&\"-\"&A23,#REF!,13,FALSE),\"\")","v":""},null,"",""]
[19,{"$f":"IFERROR(VLOOKUP('促進計画書（受け手）'!#REF!&\"-\"&A24,#REF!,2,FALSE),\"\")","v":""},{"$f":"IFERROR(VLOOKUP('促進計画書（受け手）'!#REF!&\"-\"&A24,#REF!,3,FALSE),\"\")","v":""},{"$f":"IFERROR(VLOOKUP('促進計画書（受け手）'!#REF!&\"-\"&A24,#REF!,4,FALSE),\"\")","v":""},{"$f":"IFERROR(VLOOKUP('促進計画書（受け手）'!#REF!&\"-\"&A24,#REF!,10,FALSE),\"\")","v":""},{"$f":"IFERROR(VLOOKUP('促進計画書（受け手）'!#REF!&\"-\"&A24,#REF!,12,FALSE),\"\")","v":""},{"$f":"IFERROR(VLOOKUP('促進計画書（受け手）'!#REF!&\"-\"&A24,#REF!,13,FALSE),\"\")","v":""},null,"",""]
[20,{"$f":"IFERROR(VLOOKUP('促進計画書（受け手）'!#REF!&\"-\"&A25,#REF!,2,FALSE),\"\")","v":""},{"$f":"IFERROR(VLOOKUP('促進計画書（受け手）'!#REF!&\"-\"&A25,#REF!,3,FALSE),\"\")","v":""},{"$f":"IFERROR(VLOOKUP('促進計画書（受け手）'!#REF!&\"-\"&A25,#REF!,4,FALSE),\"\")","v":""},{"$f":"IFERROR(VLOOKUP('促進計画書（受け手）'!#REF!&\"-\"&A25,#REF!,10,FALSE),\"\")","v":""},{"$f":"IFERROR(VLOOKUP('促進計画書（受け手）'!#REF!&\"-\"&A25,#REF!,12,FALSE),\"\")","v":""},{"$f":"IFERROR(VLOOKUP('促進計画書（受け手）'!#REF!&\"-\"&A25,#REF!,13,FALSE),\"\")","v":""},null,"",""]
[21,{"$f":"IFERROR(VLOOKUP('促進計画書（受け手）'!#REF!&\"-\"&A26,#REF!,2,FALSE),\"\")","v":""},{"$f":"IFERROR(VLOOKUP('促進計画書（受け手）'!#REF!&\"-\"&A26,#REF!,3,FALSE),\"\")","v":""},{"$f":"IFERROR(VLOOKUP('促進計画書（受け手）'!#REF!&\"-\"&A26,#REF!,4,FALSE),\"\")","v":""},{"$f":"IFERROR(VLOOKUP('促進計画書（受け手）'!#REF!&\"-\"&A26,#REF!,10,FALSE),\"\")","v":""},{"$f":"IFERROR(VLOOKUP('促進計画書（受け手）'!#REF!&\"-\"&A26,#REF!,12,FALSE),\"\")","v":""},{"$f":"IFERROR(VLOOKUP('促進計画書（受け手）'!#REF!&\"-\"&A26,#REF!,13,FALSE),\"\")","v":""},null,"",""]
[22,{"$f":"IFERROR(VLOOKUP('促進計画書（受け手）'!#REF!&\"-\"&A27,#REF!,2,FALSE),\"\")","v":""},{"$f":"IFERROR(VLOOKUP('促進計画書（受け手）'!#REF!&\"-\"&A27,#REF!,3,FALSE),\"\")","v":""},{"$f":"IFERROR(VLOOKUP('促進計画書（受け手）'!#REF!&\"-\"&A27,#REF!,4,FALSE),\"\")","v":""},{"$f":"IFERROR(VLOOKUP('促進計画書（受け手）'!#REF!&\"-\"&A27,#REF!,10,FALSE),\"\")","v":""},{"$f":"IFERROR(VLOOKUP('促進計画書（受け手）'!#REF!&\"-\"&A27,#REF!,12,FALSE),\"\")","v":""},{"$f":"IFERROR(VLOOKUP('促進計画書（受け手）'!#REF!&\"-\"&A27,#REF!,13,FALSE),\"\")","v":""},null,"",""]
[23,{"$f":"IFERROR(VLOOKUP('促進計画書（受け手）'!#REF!&\"-\"&A28,#REF!,2,FALSE),\"\")","v":""},{"$f":"IFERROR(VLOOKUP('促進計画書（受け手）'!#REF!&\"-\"&A28,#REF!,3,FALSE),\"\")","v":""},{"$f":"IFERROR(VLOOKUP('促進計画書（受け手）'!#REF!&\"-\"&A28,#REF!,4,FALSE),\"\")","v":""},{"$f":"IFERROR(VLOOKUP('促進計画書（受け手）'!#REF!&\"-\"&A28,#REF!,10,FALSE),\"\")","v":""},{"$f":"IFERROR(VLOOKUP('促進計画書（受け手）'!#REF!&\"-\"&A28,#REF!,12,FALSE),\"\")","v":""},{"$f":"IFERROR(VLOOKUP('促進計画書（受け手）'!#REF!&\"-\"&A28,#REF!,13,FALSE),\"\")","v":""},null,"",""]
[24,{"$f":"IFERROR(VLOOKUP('促進計画書（受け手）'!#REF!&\"-\"&A29,#REF!,2,FALSE),\"\")","v":""},{"$f":"IFERROR(VLOOKUP('促進計画書（受け手）'!#REF!&\"-\"&A29,#REF!,3,FALSE),\"\")","v":""},{"$f":"IFERROR(VLOOKUP('促進計画書（受け手）'!#REF!&\"-\"&A29,#REF!,4,FALSE),\"\")","v":""},{"$f":"IFERROR(VLOOKUP('促進計画書（受け手）'!#REF!&\"-\"&A29,#REF!,10,FALSE),\"\")","v":""},{"$f":"IFERROR(VLOOKUP('促進計画書（受け手）'!#REF!&\"-\"&A29,#REF!,12,FALSE),\"\")","v":""},{"$f":"IFERROR(VLOOKUP('促進計画書（受け手）'!#REF!&\"-\"&A29,#REF!,13,FALSE),\"\")","v":""},null,"",""]
[25,{"$f":"IFERROR(VLOOKUP('促進計画書（受け手）'!#REF!&\"-\"&A30,#REF!,2,FALSE),\"\")","v":""},{"$f":"IFERROR(VLOOKUP('促進計画書（受け手）'!#REF!&\"-\"&A30,#REF!,3,FALSE),\"\")","v":""},{"$f":"IFERROR(VLOOKUP('促進計画書（受け手）'!#REF!&\"-\"&A30,#REF!,4,FALSE),\"\")","v":""},{"$f":"IFERROR(VLOOKUP('促進計画書（受け手）'!#REF!&\"-\"&A30,#REF!,10,FALSE),\"\")","v":""},{"$f":"IFERROR(VLOOKUP('促進計画書（受け手）'!#REF!&\"-\"&A30,#REF!,12,FALSE),\"\")","v":""},{"$f":"IFERROR(VLOOKUP('促進計画書（受け手）'!#REF!&\"-\"&A30,#REF!,13,FALSE),\"\")","v":""},null,"",""]
[26,{"$f":"IFERROR(VLOOKUP('促進計画書（受け手）'!#REF!&\"-\"&A31,#REF!,2,FALSE),\"\")","v":""},{"$f":"IFERROR(VLOOKUP('促進計画書（受け手）'!#REF!&\"-\"&A31,#REF!,3,FALSE),\"\")","v":""},{"$f":"IFERROR(VLOOKUP('促進計画書（受け手）'!#REF!&\"-\"&A31,#REF!,4,FALSE),\"\")","v":""},{"$f":"IFERROR(VLOOKUP('促進計画書（受け手）'!#REF!&\"-\"&A31,#REF!,10,FALSE),\"\")","v":""},{"$f":"IFERROR(VLOOKUP('促進計画書（受け手）'!#REF!&\"-\"&A31,#REF!,12,FALSE),\"\")","v":""},{"$f":"IFERROR(VLOOKUP('促進計画書（受け手）'!#REF!&\"-\"&A31,#REF!,13,FALSE),\"\")","v":""},null,"",""]
[27,{"$f":"IFERROR(VLOOKUP('促進計画書（受け手）'!#REF!&\"-\"&A32,#REF!,2,FALSE),\"\")","v":""},{"$f":"IFERROR(VLOOKUP('促進計画書（受け手）'!#REF!&\"-\"&A32,#REF!,3,FALSE),\"\")","v":""},{"$f":"IFERROR(VLOOKUP('促進計画書（受け手）'!#REF!&\"-\"&A32,#REF!,4,FALSE),\"\")","v":""},{"$f":"IFERROR(VLOOKUP('促進計画書（受け手）'!#REF!&\"-\"&A32,#REF!,10,FALSE),\"\")","v":""},{"$f":"IFERROR(VLOOKUP('促進計画書（受け手）'!#REF!&\"-\"&A32,#REF!,12,FALSE),\"\")","v":""},{"$f":"IFERROR(VLOOKUP('促進計画書（受け手）'!#REF!&\"-\"&A32,#REF!,13,FALSE),\"\")","v":""},null,"",""]
[28,{"$f":"IFERROR(VLOOKUP('促進計画書（受け手）'!#REF!&\"-\"&A33,#REF!,2,FALSE),\"\")","v":""},{"$f":"IFERROR(VLOOKUP('促進計画書（受け手）'!#REF!&\"-\"&A33,#REF!,3,FALSE),\"\")","v":""},{"$f":"IFERROR(VLOOKUP('促進計画書（受け手）'!#REF!&\"-\"&A33,#REF!,4,FALSE),\"\")","v":""},{"$f":"IFERROR(VLOOKUP('促進計画書（受け手）'!#REF!&\"-\"&A33,#REF!,10,FALSE),\"\")","v":""},{"$f":"IFERROR(VLOOKUP('促進計画書（受け手）'!#REF!&\"-\"&A33,#REF!,12,FALSE),\"\")","v":""},{"$f":"IFERROR(VLOOKUP('促進計画書（受け手）'!#REF!&\"-\"&A33,#REF!,13,FALSE),\"\")","v":""},null,"",""]
[29,{"$f":"IFERROR(VLOOKUP('促進計画書（受け手）'!#REF!&\"-\"&A34,#REF!,2,FALSE),\"\")","v":""},{"$f":"IFERROR(VLOOKUP('促進計画書（受け手）'!#REF!&\"-\"&A34,#REF!,3,FALSE),\"\")","v":""},{"$f":"IFERROR(VLOOKUP('促進計画書（受け手）'!#REF!&\"-\"&A34,#REF!,4,FALSE),\"\")","v":""},{"$f":"IFERROR(VLOOKUP('促進計画書（受け手）'!#REF!&\"-\"&A34,#REF!,10,FALSE),\"\")","v":""},{"$f":"IFERROR(VLOOKUP('促進計画書（受け手）'!#REF!&\"-\"&A34,#REF!,12,FALSE),\"\")","v":""},{"$f":"IFERROR(VLOOKUP('促進計画書（受け手）'!#REF!&\"-\"&A34,#REF!,13,FALSE),\"\")","v":""},null,"",""]
[30,{"$f":"IFERROR(VLOOKUP('促進計画書（受け手）'!#REF!&\"-\"&A35,#REF!,2,FALSE),\"\")","v":""},{"$f":"IFERROR(VLOOKUP('促進計画書（受け手）'!#REF!&\"-\"&A35,#REF!,3,FALSE),\"\")","v":""},{"$f":"IFERROR(VLOOKUP('促進計画書（受け手）'!#REF!&\"-\"&A35,#REF!,4,FALSE),\"\")","v":""},{"$f":"IFERROR(VLOOKUP('促進計画書（受け手）'!#REF!&\"-\"&A35,#REF!,10,FALSE),\"\")","v":""},{"$f":"IFERROR(VLOOKUP('促進計画書（受け手）'!#REF!&\"-\"&A35,#REF!,12,FALSE),\"\")","v":""},{"$f":"IFERROR(VLOOKUP('促進計画書（受け手）'!#REF!&\"-\"&A35,#REF!,13,FALSE),\"\")","v":""},null,"",""]
[31,{"$f":"IFERROR(VLOOKUP('促進計画書（受け手）'!#REF!&\"-\"&A36,#REF!,2,FALSE),\"\")","v":""},{"$f":"IFERROR(VLOOKUP('促進計画書（受け手）'!#REF!&\"-\"&A36,#REF!,3,FALSE),\"\")","v":""},{"$f":"IFERROR(VLOOKUP('促進計画書（受け手）'!#REF!&\"-\"&A36,#REF!,4,FALSE),\"\")","v":""},{"$f":"IFERROR(VLOOKUP('促進計画書（受け手）'!#REF!&\"-\"&A36,#REF!,10,FALSE),\"\")","v":""},{"$f":"IFERROR(VLOOKUP('促進計画書（受け手）'!#REF!&\"-\"&A36,#REF!,12,FALSE),\"\")","v":""},{"$f":"IFERROR(VLOOKUP('促進計画書（受け手）'!#REF!&\"-\"&A36,#REF!,13,FALSE),\"\")","v":""},null,"",""]
[32,{"$f":"IFERROR(VLOOKUP('促進計画書（受け手）'!#REF!&\"-\"&A37,#REF!,2,FALSE),\"\")","v":""},{"$f":"IFERROR(VLOOKUP('促進計画書（受け手）'!#REF!&\"-\"&A37,#REF!,3,FALSE),\"\")","v":""},{"$f":"IFERROR(VLOOKUP('促進計画書（受け手）'!#REF!&\"-\"&A37,#REF!,4,FALSE),\"\")","v":""},{"$f":"IFERROR(VLOOKUP('促進計画書（受け手）'!#REF!&\"-\"&A37,#REF!,10,FALSE),\"\")","v":""},{"$f":"IFERROR(VLOOKUP('促進計画書（受け手）'!#REF!&\"-\"&A37,#REF!,12,FALSE),\"\")","v":""},{"$f":"IFERROR(VLOOKUP('促進計画書（受け手）'!#REF!&\"-\"&A37,#REF!,13,FALSE),\"\")","v":""},null,"",""]
[33,{"$f":"IFERROR(VLOOKUP('促進計画書（受け手）'!#REF!&\"-\"&A38,#REF!,2,FALSE),\"\")","v":""},{"$f":"IFERROR(VLOOKUP('促進計画書（受け手）'!#REF!&\"-\"&A38,#REF!,3,FALSE),\"\")","v":""},{"$f":"IFERROR(VLOOKUP('促進計画書（受け手）'!#REF!&\"-\"&A38,#REF!,4,FALSE),\"\")","v":""},{"$f":"IFERROR(VLOOKUP('促進計画書（受け手）'!#REF!&\"-\"&A38,#REF!,10,FALSE),\"\")","v":""},{"$f":"IFERROR(VLOOKUP('促進計画書（受け手）'!#REF!&\"-\"&A38,#REF!,12,FALSE),\"\")","v":""},{"$f":"IFERROR(VLOOKUP('促進計画書（受け手）'!#REF!&\"-\"&A38,#REF!,13,FALSE),\"\")","v":""},null,"",""]
[34,{"$f":"IFERROR(VLOOKUP('促進計画書（受け手）'!#REF!&\"-\"&A39,#REF!,2,FALSE),\"\")","v":""},{"$f":"IFERROR(VLOOKUP('促進計画書（受け手）'!#REF!&\"-\"&A39,#REF!,3,FALSE),\"\")","v":""},{"$f":"IFERROR(VLOOKUP('促進計画書（受け手）'!#REF!&\"-\"&A39,#REF!,4,FALSE),\"\")","v":""},{"$f":"IFERROR(VLOOKUP('促進計画書（受け手）'!#REF!&\"-\"&A39,#REF!,10,FALSE),\"\")","v":""},{"$f":"IFERROR(VLOOKUP('促進計画書（受け手）'!#REF!&\"-\"&A39,#REF!,12,FALSE),\"\")","v":""},{"$f":"IFERROR(VLOOKUP('促進計画書（受け手）'!#REF!&\"-\"&A39,#REF!,13,FALSE),\"\")","v":""},null,"",""]
[35,{"$f":"IFERROR(VLOOKUP('促進計画書（受け手）'!#REF!&\"-\"&A40,#REF!,2,FALSE),\"\")","v":""},{"$f":"IFERROR(VLOOKUP('促進計画書（受け手）'!#REF!&\"-\"&A40,#REF!,3,FALSE),\"\")","v":""},{"$f":"IFERROR(VLOOKUP('促進計画書（受け手）'!#REF!&\"-\"&A40,#REF!,4,FALSE),\"\")","v":""},{"$f":"IFERROR(VLOOKUP('促進計画書（受け手）'!#REF!&\"-\"&A40,#REF!,10,FALSE),\"\")","v":""},{"$f":"IFERROR(VLOOKUP('促進計画書（受け手）'!#REF!&\"-\"&A40,#REF!,12,FALSE),\"\")","v":""},{"$f":"IFERROR(VLOOKUP('促進計画書（受け手）'!#REF!&\"-\"&A40,#REF!,13,FALSE),\"\")","v":""},null,"",""]
[36,{"$f":"IFERROR(VLOOKUP('促進計画書（受け手）'!#REF!&\"-\"&A41,#REF!,2,FALSE),\"\")","v":""},{"$f":"IFERROR(VLOOKUP('促進計画書（受け手）'!#REF!&\"-\"&A41,#REF!,3,FALSE),\"\")","v":""},{"$f":"IFERROR(VLOOKUP('促進計画書（受け手）'!#REF!&\"-\"&A41,#REF!,4,FALSE),\"\")","v":""},{"$f":"IFERROR(VLOOKUP('促進計画書（受け手）'!#REF!&\"-\"&A41,#REF!,10,FALSE),\"\")","v":""},{"$f":"IFERROR(VLOOKUP('促進計画書（受け手）'!#REF!&\"-\"&A41,#REF!,12,FALSE),\"\")","v":""},{"$f":"IFERROR(VLOOKUP('促進計画書（受け手）'!#REF!&\"-\"&A41,#REF!,13,FALSE),\"\")","v":""},null,"",""]
[37,{"$f":"IFERROR(VLOOKUP('促進計画書（受け手）'!#REF!&\"-\"&A42,#REF!,2,FALSE),\"\")","v":""},{"$f":"IFERROR(VLOOKUP('促進計画書（受け手）'!#REF!&\"-\"&A42,#REF!,3,FALSE),\"\")","v":""},{"$f":"IFERROR(VLOOKUP('促進計画書（受け手）'!#REF!&\"-\"&A42,#REF!,4,FALSE),\"\")","v":""},{"$f":"IFERROR(VLOOKUP('促進計画書（受け手）'!#REF!&\"-\"&A42,#REF!,10,FALSE),\"\")","v":""},{"$f":"IFERROR(VLOOKUP('促進計画書（受け手）'!#REF!&\"-\"&A42,#REF!,12,FALSE),\"\")","v":""},{"$f":"IFERROR(VLOOKUP('促進計画書（受け手）'!#REF!&\"-\"&A42,#REF!,13,FALSE),\"\")","v":""},null,"",""]
[38,{"$f":"IFERROR(VLOOKUP('促進計画書（受け手）'!#REF!&\"-\"&A43,#REF!,2,FALSE),\"\")","v":""},{"$f":"IFERROR(VLOOKUP('促進計画書（受け手）'!#REF!&\"-\"&A43,#REF!,3,FALSE),\"\")","v":""},{"$f":"IFERROR(VLOOKUP('促進計画書（受け手）'!#REF!&\"-\"&A43,#REF!,4,FALSE),\"\")","v":""},{"$f":"IFERROR(VLOOKUP('促進計画書（受け手）'!#REF!&\"-\"&A43,#REF!,10,FALSE),\"\")","v":""},{"$f":"IFERROR(VLOOKUP('促進計画書（受け手）'!#REF!&\"-\"&A43,#REF!,12,FALSE),\"\")","v":""},{"$f":"IFERROR(VLOOKUP('促進計画書（受け手）'!#REF!&\"-\"&A43,#REF!,13,FALSE),\"\")","v":""},null,"",""]
[39,{"$f":"IFERROR(VLOOKUP('促進計画書（受け手）'!#REF!&\"-\"&A44,#REF!,2,FALSE),\"\")","v":""},{"$f":"IFERROR(VLOOKUP('促進計画書（受け手）'!#REF!&\"-\"&A44,#REF!,3,FALSE),\"\")","v":""},{"$f":"IFERROR(VLOOKUP('促進計画書（受け手）'!#REF!&\"-\"&A44,#REF!,4,FALSE),\"\")","v":""},{"$f":"IFERROR(VLOOKUP('促進計画書（受け手）'!#REF!&\"-\"&A44,#REF!,10,FALSE),\"\")","v":""},{"$f":"IFERROR(VLOOKUP('促進計画書（受け手）'!#REF!&\"-\"&A44,#REF!,12,FALSE),\"\")","v":""},{"$f":"IFERROR(VLOOKUP('促進計画書（受け手）'!#REF!&\"-\"&A44,#REF!,13,FALSE),\"\")","v":""},null,"",""]
[40,{"$f":"IFERROR(VLOOKUP('促進計画書（受け手）'!#REF!&\"-\"&A45,#REF!,2,FALSE),\"\")","v":""},{"$f":"IFERROR(VLOOKUP('促進計画書（受け手）'!#REF!&\"-\"&A45,#REF!,3,FALSE),\"\")","v":""},{"$f":"IFERROR(VLOOKUP('促進計画書（受け手）'!#REF!&\"-\"&A45,#REF!,4,FALSE),\"\")","v":""},{"$f":"IFERROR(VLOOKUP('促進計画書（受け手）'!#REF!&\"-\"&A45,#REF!,10,FALSE),\"\")","v":""},{"$f":"IFERROR(VLOOKUP('促進計画書（受け手）'!#REF!&\"-\"&A45,#REF!,12,FALSE),\"\")","v":""},{"$f":"IFERROR(VLOOKUP('促進計画書（受け手）'!#REF!&\"-\"&A45,#REF!,13,FALSE),\"\")","v":""},null,"",""]
[41,{"$f":"IFERROR(VLOOKUP('促進計画書（受け手）'!#REF!&\"-\"&A46,#REF!,2,FALSE),\"\")","v":""},{"$f":"IFERROR(VLOOKUP('促進計画書（受け手）'!#REF!&\"-\"&A46,#REF!,3,FALSE),\"\")","v":""},{"$f":"IFERROR(VLOOKUP('促進計画書（受け手）'!#REF!&\"-\"&A46,#REF!,4,FALSE),\"\")","v":""},{"$f":"IFERROR(VLOOKUP('促進計画書（受け手）'!#REF!&\"-\"&A46,#REF!,10,FALSE),\"\")","v":""},{"$f":"IFERROR(VLOOKUP('促進計画書（受け手）'!#REF!&\"-\"&A46,#REF!,12,FALSE),\"\")","v":""},{"$f":"IFERROR(VLOOKUP('促進計画書（受け手）'!#REF!&\"-\"&A46,#REF!,13,FALSE),\"\")","v":""},null,"",""]
[42,{"$f":"IFERROR(VLOOKUP('促進計画書（受け手）'!#REF!&\"-\"&A47,#REF!,2,FALSE),\"\")","v":""},{"$f":"IFERROR(VLOOKUP('促進計画書（受け手）'!#REF!&\"-\"&A47,#REF!,3,FALSE),\"\")","v":""},{"$f":"IFERROR(VLOOKUP('促進計画書（受け手）'!#REF!&\"-\"&A47,#REF!,4,FALSE),\"\")","v":""},{"$f":"IFERROR(VLOOKUP('促進計画書（受け手）'!#REF!&\"-\"&A47,#REF!,10,FALSE),\"\")","v":""},{"$f":"IFERROR(VLOOKUP('促進計画書（受け手）'!#REF!&\"-\"&A47,#REF!,12,FALSE),\"\")","v":""},{"$f":"IFERROR(VLOOKUP('促進計画書（受け手）'!#REF!&\"-\"&A47,#REF!,13,FALSE),\"\")","v":""},null,"",""]
[43,{"$f":"IFERROR(VLOOKUP('促進計画書（受け手）'!#REF!&\"-\"&A48,#REF!,2,FALSE),\"\")","v":""},{"$f":"IFERROR(VLOOKUP('促進計画書（受け手）'!#REF!&\"-\"&A48,#REF!,3,FALSE),\"\")","v":""},{"$f":"IFERROR(VLOOKUP('促進計画書（受け手）'!#REF!&\"-\"&A48,#REF!,4,FALSE),\"\")","v":""},{"$f":"IFERROR(VLOOKUP('促進計画書（受け手）'!#REF!&\"-\"&A48,#REF!,10,FALSE),\"\")","v":""},{"$f":"IFERROR(VLOOKUP('促進計画書（受け手）'!#REF!&\"-\"&A48,#REF!,12,FALSE),\"\")","v":""},{"$f":"IFERROR(VLOOKUP('促進計画書（受け手）'!#REF!&\"-\"&A48,#REF!,13,FALSE),\"\")","v":""},null,"",""]
[44,{"$f":"IFERROR(VLOOKUP('促進計画書（受け手）'!#REF!&\"-\"&A49,#REF!,2,FALSE),\"\")","v":""},{"$f":"IFERROR(VLOOKUP('促進計画書（受け手）'!#REF!&\"-\"&A49,#REF!,3,FALSE),\"\")","v":""},{"$f":"IFERROR(VLOOKUP('促進計画書（受け手）'!#REF!&\"-\"&A49,#REF!,4,FALSE),\"\")","v":""},{"$f":"IFERROR(VLOOKUP('促進計画書（受け手）'!#REF!&\"-\"&A49,#REF!,10,FALSE),\"\")","v":""},{"$f":"IFERROR(VLOOKUP('促進計画書（受け手）'!#REF!&\"-\"&A49,#REF!,12,FALSE),\"\")","v":""},{"$f":"IFERROR(VLOOKUP('促進計画書（受け手）'!#REF!&\"-\"&A49,#REF!,13,FALSE),\"\")","v":""},null,"",""]
[45,{"$f":"IFERROR(VLOOKUP('促進計画書（受け手）'!#REF!&\"-\"&A50,#REF!,2,FALSE),\"\")","v":""},{"$f":"IFERROR(VLOOKUP('促進計画書（受け手）'!#REF!&\"-\"&A50,#REF!,3,FALSE),\"\")","v":""},{"$f":"IFERROR(VLOOKUP('促進計画書（受け手）'!#REF!&\"-\"&A50,#REF!,4,FALSE),\"\")","v":""},{"$f":"IFERROR(VLOOKUP('促進計画書（受け手）'!#REF!&\"-\"&A50,#REF!,10,FALSE),\"\")","v":""},{"$f":"IFERROR(VLOOKUP('促進計画書（受け手）'!#REF!&\"-\"&A50,#REF!,12,FALSE),\"\")","v":""},{"$f":"IFERROR(VLOOKUP('促進計画書（受け手）'!#REF!&\"-\"&A50,#REF!,13,FALSE),\"\")","v":""},null,"",""]
[46,{"$f":"IFERROR(VLOOKUP('促進計画書（受け手）'!#REF!&\"-\"&A51,#REF!,2,FALSE),\"\")","v":""},{"$f":"IFERROR(VLOOKUP('促進計画書（受け手）'!#REF!&\"-\"&A51,#REF!,3,FALSE),\"\")","v":""},{"$f":"IFERROR(VLOOKUP('促進計画書（受け手）'!#REF!&\"-\"&A51,#REF!,4,FALSE),\"\")","v":""},{"$f":"IFERROR(VLOOKUP('促進計画書（受け手）'!#REF!&\"-\"&A51,#REF!,10,FALSE),\"\")","v":""},{"$f":"IFERROR(VLOOKUP('促進計画書（受け手）'!#REF!&\"-\"&A51,#REF!,12,FALSE),\"\")","v":""},{"$f":"IFERROR(VLOOKUP('促進計画書（受け手）'!#REF!&\"-\"&A51,#REF!,13,FALSE),\"\")","v":""},null,"",""]
[47,{"$f":"IFERROR(VLOOKUP('促進計画書（受け手）'!#REF!&\"-\"&A52,#REF!,2,FALSE),\"\")","v":""},{"$f":"IFERROR(VLOOKUP('促進計画書（受け手）'!#REF!&\"-\"&A52,#REF!,3,FALSE),\"\")","v":""},{"$f":"IFERROR(VLOOKUP('促進計画書（受け手）'!#REF!&\"-\"&A52,#REF!,4,FALSE),\"\")","v":""},{"$f":"IFERROR(VLOOKUP('促進計画書（受け手）'!#REF!&\"-\"&A52,#REF!,10,FALSE),\"\")","v":""},{"$f":"IFERROR(VLOOKUP('促進計画書（受け手）'!#REF!&\"-\"&A52,#REF!,12,FALSE),\"\")","v":""},{"$f":"IFERROR(VLOOKUP('促進計画書（受け手）'!#REF!&\"-\"&A52,#REF!,13,FALSE),\"\")","v":""},null,"",""]
[48,{"$f":"IFERROR(VLOOKUP('促進計画書（受け手）'!#REF!&\"-\"&A53,#REF!,2,FALSE),\"\")","v":""},{"$f":"IFERROR(VLOOKUP('促進計画書（受け手）'!#REF!&\"-\"&A53,#REF!,3,FALSE),\"\")","v":""},{"$f":"IFERROR(VLOOKUP('促進計画書（受け手）'!#REF!&\"-\"&A53,#REF!,4,FALSE),\"\")","v":""},{"$f":"IFERROR(VLOOKUP('促進計画書（受け手）'!#REF!&\"-\"&A53,#REF!,10,FALSE),\"\")","v":""},{"$f":"IFERROR(VLOOKUP('促進計画書（受け手）'!#REF!&\"-\"&A53,#REF!,12,FALSE),\"\")","v":""},{"$f":"IFERROR(VLOOKUP('促進計画書（受け手）'!#REF!&\"-\"&A53,#REF!,13,FALSE),\"\")","v":""},null,"",""]
[49,{"$f":"IFERROR(VLOOKUP('促進計画書（受け手）'!#REF!&\"-\"&A54,#REF!,2,FALSE),\"\")","v":""},{"$f":"IFERROR(VLOOKUP('促進計画書（受け手）'!#REF!&\"-\"&A54,#REF!,3,FALSE),\"\")","v":""},{"$f":"IFERROR(VLOOKUP('促進計画書（受け手）'!#REF!&\"-\"&A54,#REF!,4,FALSE),\"\")","v":""},{"$f":"IFERROR(VLOOKUP('促進計画書（受け手）'!#REF!&\"-\"&A54,#REF!,10,FALSE),\"\")","v":""},{"$f":"IFERROR(VLOOKUP('促進計画書（受け手）'!#REF!&\"-\"&A54,#REF!,12,FALSE),\"\")","v":""},{"$f":"IFERROR(VLOOKUP('促進計画書（受け手）'!#REF!&\"-\"&A54,#REF!,13,FALSE),\"\")","v":""},null,"",""]
[50,{"$f":"IFERROR(VLOOKUP('促進計画書（受け手）'!#REF!&\"-\"&A55,#REF!,2,FALSE),\"\")","v":""},{"$f":"IFERROR(VLOOKUP('促進計画書（受け手）'!#REF!&\"-\"&A55,#REF!,3,FALSE),\"\")","v":""},{"$f":"IFERROR(VLOOKUP('促進計画書（受け手）'!#REF!&\"-\"&A55,#REF!,4,FALSE),\"\")","v":""},{"$f":"IFERROR(VLOOKUP('促進計画書（受け手）'!#REF!&\"-\"&A55,#REF!,10,FALSE),\"\")","v":""},{"$f":"IFERROR(VLOOKUP('促進計画書（受け手）'!#REF!&\"-\"&A55,#REF!,12,FALSE),\"\")","v":""},{"$f":"IFERROR(VLOOKUP('促進計画書（受け手）'!#REF!&\"-\"&A55,#REF!,13,FALSE),\"\")","v":""},null,"",""]
[51,{"$f":"IFERROR(VLOOKUP('促進計画書（受け手）'!#REF!&\"-\"&A56,#REF!,2,FALSE),\"\")","v":""},{"$f":"IFERROR(VLOOKUP('促進計画書（受け手）'!#REF!&\"-\"&A56,#REF!,3,FALSE),\"\")","v":""},{"$f":"IFERROR(VLOOKUP('促進計画書（受け手）'!#REF!&\"-\"&A56,#REF!,4,FALSE),\"\")","v":""},{"$f":"IFERROR(VLOOKUP('促進計画書（受け手）'!#REF!&\"-\"&A56,#REF!,10,FALSE),\"\")","v":""},{"$f":"IFERROR(VLOOKUP('促進計画書（受け手）'!#REF!&\"-\"&A56,#REF!,12,FALSE),\"\")","v":""},{"$f":"IFERROR(VLOOKUP('促進計画書（受け手）'!#REF!&\"-\"&A56,#REF!,13,FALSE),\"\")","v":""},null,"",""]
[52,{"$f":"IFERROR(VLOOKUP('促進計画書（受け手）'!#REF!&\"-\"&A57,#REF!,2,FALSE),\"\")","v":""},{"$f":"IFERROR(VLOOKUP('促進計画書（受け手）'!#REF!&\"-\"&A57,#REF!,3,FALSE),\"\")","v":""},{"$f":"IFERROR(VLOOKUP('促進計画書（受け手）'!#REF!&\"-\"&A57,#REF!,4,FALSE),\"\")","v":""},{"$f":"IFERROR(VLOOKUP('促進計画書（受け手）'!#REF!&\"-\"&A57,#REF!,10,FALSE),\"\")","v":""},{"$f":"IFERROR(VLOOKUP('促進計画書（受け手）'!#REF!&\"-\"&A57,#REF!,12,FALSE),\"\")","v":""},{"$f":"IFERROR(VLOOKUP('促進計画書（受け手）'!#REF!&\"-\"&A57,#REF!,13,FALSE),\"\")","v":""},null,"",""]
[53,{"$f":"IFERROR(VLOOKUP('促進計画書（受け手）'!#REF!&\"-\"&A58,#REF!,2,FALSE),\"\")","v":""},{"$f":"IFERROR(VLOOKUP('促進計画書（受け手）'!#REF!&\"-\"&A58,#REF!,3,FALSE),\"\")","v":""},{"$f":"IFERROR(VLOOKUP('促進計画書（受け手）'!#REF!&\"-\"&A58,#REF!,4,FALSE),\"\")","v":""},{"$f":"IFERROR(VLOOKUP('促進計画書（受け手）'!#REF!&\"-\"&A58,#REF!,10,FALSE),\"\")","v":""},{"$f":"IFERROR(VLOOKUP('促進計画書（受け手）'!#REF!&\"-\"&A58,#REF!,12,FALSE),\"\")","v":""},{"$f":"IFERROR(VLOOKUP('促進計画書（受け手）'!#REF!&\"-\"&A58,#REF!,13,FALSE),\"\")","v":""},null,"",""]
[54,{"$f":"IFERROR(VLOOKUP('促進計画書（受け手）'!#REF!&\"-\"&A59,#REF!,2,FALSE),\"\")","v":""},{"$f":"IFERROR(VLOOKUP('促進計画書（受け手）'!#REF!&\"-\"&A59,#REF!,3,FALSE),\"\")","v":""},{"$f":"IFERROR(VLOOKUP('促進計画書（受け手）'!#REF!&\"-\"&A59,#REF!,4,FALSE),\"\")","v":""},{"$f":"IFERROR(VLOOKUP('促進計画書（受け手）'!#REF!&\"-\"&A59,#REF!,10,FALSE),\"\")","v":""},{"$f":"IFERROR(VLOOKUP('促進計画書（受け手）'!#REF!&\"-\"&A59,#REF!,12,FALSE),\"\")","v":""},{"$f":"IFERROR(VLOOKUP('促進計画書（受け手）'!#REF!&\"-\"&A59,#REF!,13,FALSE),\"\")","v":""},null,"",""]
[55,{"$f":"IFERROR(VLOOKUP('促進計画書（受け手）'!#REF!&\"-\"&A60,#REF!,2,FALSE),\"\")","v":""},{"$f":"IFERROR(VLOOKUP('促進計画書（受け手）'!#REF!&\"-\"&A60,#REF!,3,FALSE),\"\")","v":""},{"$f":"IFERROR(VLOOKUP('促進計画書（受け手）'!#REF!&\"-\"&A60,#REF!,4,FALSE),\"\")","v":""},{"$f":"IFERROR(VLOOKUP('促進計画書（受け手）'!#REF!&\"-\"&A60,#REF!,10,FALSE),\"\")","v":""},{"$f":"IFERROR(VLOOKUP('促進計画書（受け手）'!#REF!&\"-\"&A60,#REF!,12,FALSE),\"\")","v":""},{"$f":"IFERROR(VLOOKUP('促進計画書（受け手）'!#REF!&\"-\"&A60,#REF!,13,FALSE),\"\")","v":""},null,"",""]
[56,{"$f":"IFERROR(VLOOKUP('促進計画書（受け手）'!#REF!&\"-\"&A61,#REF!,2,FALSE),\"\")","v":""},{"$f":"IFERROR(VLOOKUP('促進計画書（受け手）'!#REF!&\"-\"&A61,#REF!,3,FALSE),\"\")","v":""},{"$f":"IFERROR(VLOOKUP('促進計画書（受け手）'!#REF!&\"-\"&A61,#REF!,4,FALSE),\"\")","v":""},{"$f":"IFERROR(VLOOKUP('促進計画書（受け手）'!#REF!&\"-\"&A61,#REF!,10,FALSE),\"\")","v":""},{"$f":"IFERROR(VLOOKUP('促進計画書（受け手）'!#REF!&\"-\"&A61,#REF!,12,FALSE),\"\")","v":""},{"$f":"IFERROR(VLOOKUP('促進計画書（受け手）'!#REF!&\"-\"&A61,#REF!,13,FALSE),\"\")","v":""},null,"",""]
[57,{"$f":"IFERROR(VLOOKUP('促進計画書（受け手）'!#REF!&\"-\"&A62,#REF!,2,FALSE),\"\")","v":""},{"$f":"IFERROR(VLOOKUP('促進計画書（受け手）'!#REF!&\"-\"&A62,#REF!,3,FALSE),\"\")","v":""},{"$f":"IFERROR(VLOOKUP('促進計画書（受け手）'!#REF!&\"-\"&A62,#REF!,4,FALSE),\"\")","v":""},{"$f":"IFERROR(VLOOKUP('促進計画書（受け手）'!#REF!&\"-\"&A62,#REF!,10,FALSE),\"\")","v":""},{"$f":"IFERROR(VLOOKUP('促進計画書（受け手）'!#REF!&\"-\"&A62,#REF!,12,FALSE),\"\")","v":""},{"$f":"IFERROR(VLOOKUP('促進計画書（受け手）'!#REF!&\"-\"&A62,#REF!,13,FALSE),\"\")","v":""},null,"",""]
[58,{"$f":"IFERROR(VLOOKUP('促進計画書（受け手）'!#REF!&\"-\"&A63,#REF!,2,FALSE),\"\")","v":""},{"$f":"IFERROR(VLOOKUP('促進計画書（受け手）'!#REF!&\"-\"&A63,#REF!,3,FALSE),\"\")","v":""},{"$f":"IFERROR(VLOOKUP('促進計画書（受け手）'!#REF!&\"-\"&A63,#REF!,4,FALSE),\"\")","v":""},{"$f":"IFERROR(VLOOKUP('促進計画書（受け手）'!#REF!&\"-\"&A63,#REF!,10,FALSE),\"\")","v":""},{"$f":"IFERROR(VLOOKUP('促進計画書（受け手）'!#REF!&\"-\"&A63,#REF!,12,FALSE),\"\")","v":""},{"$f":"IFERROR(VLOOKUP('促進計画書（受け手）'!#REF!&\"-\"&A63,#REF!,13,FALSE),\"\")","v":""},null,"",""]
[59,{"$f":"IFERROR(VLOOKUP('促進計画書（受け手）'!#REF!&\"-\"&A64,#REF!,2,FALSE),\"\")","v":""},{"$f":"IFERROR(VLOOKUP('促進計画書（受け手）'!#REF!&\"-\"&A64,#REF!,3,FALSE),\"\")","v":""},{"$f":"IFERROR(VLOOKUP('促進計画書（受け手）'!#REF!&\"-\"&A64,#REF!,4,FALSE),\"\")","v":""},{"$f":"IFERROR(VLOOKUP('促進計画書（受け手）'!#REF!&\"-\"&A64,#REF!,10,FALSE),\"\")","v":""},{"$f":"IFERROR(VLOOKUP('促進計画書（受け手）'!#REF!&\"-\"&A64,#REF!,12,FALSE),\"\")","v":""},{"$f":"IFERROR(VLOOKUP('促進計画書（受け手）'!#REF!&\"-\"&A64,#REF!,13,FALSE),\"\")","v":""},null,"",""]
[60,{"$f":"IFERROR(VLOOKUP('促進計画書（受け手）'!#REF!&\"-\"&A65,#REF!,2,FALSE),\"\")","v":""},{"$f":"IFERROR(VLOOKUP('促進計画書（受け手）'!#REF!&\"-\"&A65,#REF!,3,FALSE),\"\")","v":""},{"$f":"IFERROR(VLOOKUP('促進計画書（受け手）'!#REF!&\"-\"&A65,#REF!,4,FALSE),\"\")","v":""},{"$f":"IFERROR(VLOOKUP('促進計画書（受け手）'!#REF!&\"-\"&A65,#REF!,10,FALSE),\"\")","v":""},{"$f":"IFERROR(VLOOKUP('促進計画書（受け手）'!#REF!&\"-\"&A65,#REF!,12,FALSE),\"\")","v":""},{"$f":"IFERROR(VLOOKUP('促進計画書（受け手）'!#REF!&\"-\"&A65,#REF!,13,FALSE),\"\")","v":""},null,"",""]
[61,{"$f":"IFERROR(VLOOKUP('促進計画書（受け手）'!#REF!&\"-\"&A66,#REF!,2,FALSE),\"\")","v":""},{"$f":"IFERROR(VLOOKUP('促進計画書（受け手）'!#REF!&\"-\"&A66,#REF!,3,FALSE),\"\")","v":""},{"$f":"IFERROR(VLOOKUP('促進計画書（受け手）'!#REF!&\"-\"&A66,#REF!,4,FALSE),\"\")","v":""},{"$f":"IFERROR(VLOOKUP('促進計画書（受け手）'!#REF!&\"-\"&A66,#REF!,10,FALSE),\"\")","v":""},{"$f":"IFERROR(VLOOKUP('促進計画書（受け手）'!#REF!&\"-\"&A66,#REF!,12,FALSE),\"\")","v":""},{"$f":"IFERROR(VLOOKUP('促進計画書（受け手）'!#REF!&\"-\"&A66,#REF!,13,FALSE),\"\")","v":""},null,"",""]
[62,{"$f":"IFERROR(VLOOKUP('促進計画書（受け手）'!#REF!&\"-\"&A67,#REF!,2,FALSE),\"\")","v":""},{"$f":"IFERROR(VLOOKUP('促進計画書（受け手）'!#REF!&\"-\"&A67,#REF!,3,FALSE),\"\")","v":""},{"$f":"IFERROR(VLOOKUP('促進計画書（受け手）'!#REF!&\"-\"&A67,#REF!,4,FALSE),\"\")","v":""},{"$f":"IFERROR(VLOOKUP('促進計画書（受け手）'!#REF!&\"-\"&A67,#REF!,10,FALSE),\"\")","v":""},{"$f":"IFERROR(VLOOKUP('促進計画書（受け手）'!#REF!&\"-\"&A67,#REF!,12,FALSE),\"\")","v":""},{"$f":"IFERROR(VLOOKUP('促進計画書（受け手）'!#REF!&\"-\"&A67,#REF!,13,FALSE),\"\")","v":""},null,"",""]
[63,{"$f":"IFERROR(VLOOKUP('促進計画書（受け手）'!#REF!&\"-\"&A68,#REF!,2,FALSE),\"\")","v":""},{"$f":"IFERROR(VLOOKUP('促進計画書（受け手）'!#REF!&\"-\"&A68,#REF!,3,FALSE),\"\")","v":""},{"$f":"IFERROR(VLOOKUP('促進計画書（受け手）'!#REF!&\"-\"&A68,#REF!,4,FALSE),\"\")","v":""},{"$f":"IFERROR(VLOOKUP('促進計画書（受け手）'!#REF!&\"-\"&A68,#REF!,10,FALSE),\"\")","v":""},{"$f":"IFERROR(VLOOKUP('促進計画書（受け手）'!#REF!&\"-\"&A68,#REF!,12,FALSE),\"\")","v":""},{"$f":"IFERROR(VLOOKUP('促進計画書（受け手）'!#REF!&\"-\"&A68,#REF!,13,FALSE),\"\")","v":""},null,"",""]
[64,{"$f":"IFERROR(VLOOKUP('促進計画書（受け手）'!#REF!&\"-\"&A69,#REF!,2,FALSE),\"\")","v":""},{"$f":"IFERROR(VLOOKUP('促進計画書（受け手）'!#REF!&\"-\"&A69,#REF!,3,FALSE),\"\")","v":""},{"$f":"IFERROR(VLOOKUP('促進計画書（受け手）'!#REF!&\"-\"&A69,#REF!,4,FALSE),\"\")","v":""},{"$f":"IFERROR(VLOOKUP('促進計画書（受け手）'!#REF!&\"-\"&A69,#REF!,10,FALSE),\"\")","v":""},{"$f":"IFERROR(VLOOKUP('促進計画書（受け手）'!#REF!&\"-\"&A69,#REF!,12,FALSE),\"\")","v":""},{"$f":"IFERROR(VLOOKUP('促進計画書（受け手）'!#REF!&\"-\"&A69,#REF!,13,FALSE),\"\")","v":""},null,"",""]
[65,{"$f":"IFERROR(VLOOKUP('促進計画書（受け手）'!#REF!&\"-\"&A70,#REF!,2,FALSE),\"\")","v":""},{"$f":"IFERROR(VLOOKUP('促進計画書（受け手）'!#REF!&\"-\"&A70,#REF!,3,FALSE),\"\")","v":""},{"$f":"IFERROR(VLOOKUP('促進計画書（受け手）'!#REF!&\"-\"&A70,#REF!,4,FALSE),\"\")","v":""},{"$f":"IFERROR(VLOOKUP('促進計画書（受け手）'!#REF!&\"-\"&A70,#REF!,10,FALSE),\"\")","v":""},{"$f":"IFERROR(VLOOKUP('促進計画書（受け手）'!#REF!&\"-\"&A70,#REF!,12,FALSE),\"\")","v":""},{"$f":"IFERROR(VLOOKUP('促進計画書（受け手）'!#REF!&\"-\"&A70,#REF!,13,FALSE),\"\")","v":""},null,"",""]
[66,{"$f":"IFERROR(VLOOKUP('促進計画書（受け手）'!#REF!&\"-\"&A71,#REF!,2,FALSE),\"\")","v":""},{"$f":"IFERROR(VLOOKUP('促進計画書（受け手）'!#REF!&\"-\"&A71,#REF!,3,FALSE),\"\")","v":""},{"$f":"IFERROR(VLOOKUP('促進計画書（受け手）'!#REF!&\"-\"&A71,#REF!,4,FALSE),\"\")","v":""},{"$f":"IFERROR(VLOOKUP('促進計画書（受け手）'!#REF!&\"-\"&A71,#REF!,10,FALSE),\"\")","v":""},{"$f":"IFERROR(VLOOKUP('促進計画書（受け手）'!#REF!&\"-\"&A71,#REF!,12,FALSE),\"\")","v":""},{"$f":"IFERROR(VLOOKUP('促進計画書（受け手）'!#REF!&\"-\"&A71,#REF!,13,FALSE),\"\")","v":""},null,{"$f":"IF(F71=\"田\",\"水田利用\",IF(F71=\"畑\",\"普通畑利用\",\"\"))","v":""},{"$f":"IF(I71=\"\",\"\",\"令和7年6月1日\")","v":""}]
[67,{"$f":"IFERROR(VLOOKUP('促進計画書（受け手）'!#REF!&\"-\"&A72,#REF!,2,FALSE),\"\")","v":""},{"$f":"IFERROR(VLOOKUP('促進計画書（受け手）'!#REF!&\"-\"&A72,#REF!,3,FALSE),\"\")","v":""},{"$f":"IFERROR(VLOOKUP('促進計画書（受け手）'!#REF!&\"-\"&A72,#REF!,4,FALSE),\"\")","v":""},{"$f":"IFERROR(VLOOKUP('促進計画書（受け手）'!#REF!&\"-\"&A72,#REF!,10,FALSE),\"\")","v":""},{"$f":"IFERROR(VLOOKUP('促進計画書（受け手）'!#REF!&\"-\"&A72,#REF!,12,FALSE),\"\")","v":""},{"$f":"IFERROR(VLOOKUP('促進計画書（受け手）'!#REF!&\"-\"&A72,#REF!,13,FALSE),\"\")","v":""},null,"",""]
[68,{"$f":"IFERROR(VLOOKUP('促進計画書（受け手）'!#REF!&\"-\"&A73,#REF!,2,FALSE),\"\")","v":""},{"$f":"IFERROR(VLOOKUP('促進計画書（受け手）'!#REF!&\"-\"&A73,#REF!,3,FALSE),\"\")","v":""},{"$f":"IFERROR(VLOOKUP('促進計画書（受け手）'!#REF!&\"-\"&A73,#REF!,4,FALSE),\"\")","v":""},{"$f":"IFERROR(VLOOKUP('促進計画書（受け手）'!#REF!&\"-\"&A73,#REF!,10,FALSE),\"\")","v":""},{"$f":"IFERROR(VLOOKUP('促進計画書（受け手）'!#REF!&\"-\"&A73,#REF!,12,FALSE),\"\")","v":""},{"$f":"IFERROR(VLOOKUP('促進計画書（受け手）'!#REF!&\"-\"&A73,#REF!,13,FALSE),\"\")","v":""},null,"",""]
[69,{"$f":"IFERROR(VLOOKUP('促進計画書（受け手）'!#REF!&\"-\"&A74,#REF!,2,FALSE),\"\")","v":""},{"$f":"IFERROR(VLOOKUP('促進計画書（受け手）'!#REF!&\"-\"&A74,#REF!,3,FALSE),\"\")","v":""},{"$f":"IFERROR(VLOOKUP('促進計画書（受け手）'!#REF!&\"-\"&A74,#REF!,4,FALSE),\"\")","v":""},{"$f":"IFERROR(VLOOKUP('促進計画書（受け手）'!#REF!&\"-\"&A74,#REF!,10,FALSE),\"\")","v":""},{"$f":"IFERROR(VLOOKUP('促進計画書（受け手）'!#REF!&\"-\"&A74,#REF!,12,FALSE),\"\")","v":""},{"$f":"IFERROR(VLOOKUP('促進計画書（受け手）'!#REF!&\"-\"&A74,#REF!,13,FALSE),\"\")","v":""},null,"",""]
[70,{"$f":"IFERROR(VLOOKUP('促進計画書（受け手）'!#REF!&\"-\"&A75,#REF!,2,FALSE),\"\")","v":""},{"$f":"IFERROR(VLOOKUP('促進計画書（受け手）'!#REF!&\"-\"&A75,#REF!,3,FALSE),\"\")","v":""},{"$f":"IFERROR(VLOOKUP('促進計画書（受け手）'!#REF!&\"-\"&A75,#REF!,4,FALSE),\"\")","v":""},{"$f":"IFERROR(VLOOKUP('促進計画書（受け手）'!#REF!&\"-\"&A75,#REF!,10,FALSE),\"\")","v":""},{"$f":"IFERROR(VLOOKUP('促進計画書（受け手）'!#REF!&\"-\"&A75,#REF!,12,FALSE),\"\")","v":""},{"$f":"IFERROR(VLOOKUP('促進計画書（受け手）'!#REF!&\"-\"&A75,#REF!,13,FALSE),\"\")","v":""},null,"",""]
[71,{"$f":"IFERROR(VLOOKUP('促進計画書（受け手）'!#REF!&\"-\"&A76,#REF!,2,FALSE),\"\")","v":""},{"$f":"IFERROR(VLOOKUP('促進計画書（受け手）'!#REF!&\"-\"&A76,#REF!,3,FALSE),\"\")","v":""},{"$f":"IFERROR(VLOOKUP('促進計画書（受け手）'!#REF!&\"-\"&A76,#REF!,4,FALSE),\"\")","v":""},{"$f":"IFERROR(VLOOKUP('促進計画書（受け手）'!#REF!&\"-\"&A76,#REF!,10,FALSE),\"\")","v":""},{"$f":"IFERROR(VLOOKUP('促進計画書（受け手）'!#REF!&\"-\"&A76,#REF!,12,FALSE),\"\")","v":""},{"$f":"IFERROR(VLOOKUP('促進計画書（受け手）'!#REF!&\"-\"&A76,#REF!,13,FALSE),\"\")","v":""},null,"",""]
[72,{"$f":"IFERROR(VLOOKUP('促進計画書（受け手）'!#REF!&\"-\"&A77,#REF!,2,FALSE),\"\")","v":""},{"$f":"IFERROR(VLOOKUP('促進計画書（受け手）'!#REF!&\"-\"&A77,#REF!,3,FALSE),\"\")","v":""},{"$f":"IFERROR(VLOOKUP('促進計画書（受け手）'!#REF!&\"-\"&A77,#REF!,4,FALSE),\"\")","v":""},{"$f":"IFERROR(VLOOKUP('促進計画書（受け手）'!#REF!&\"-\"&A77,#REF!,10,FALSE),\"\")","v":""},{"$f":"IFERROR(VLOOKUP('促進計画書（受け手）'!#REF!&\"-\"&A77,#REF!,12,FALSE),\"\")","v":""},{"$f":"IFERROR(VLOOKUP('促進計画書（受け手）'!#REF!&\"-\"&A77,#REF!,13,FALSE),\"\")","v":""},null,"",""]
[73,{"$f":"IFERROR(VLOOKUP('促進計画書（受け手）'!#REF!&\"-\"&A78,#REF!,2,FALSE),\"\")","v":""},{"$f":"IFERROR(VLOOKUP('促進計画書（受け手）'!#REF!&\"-\"&A78,#REF!,3,FALSE),\"\")","v":""},{"$f":"IFERROR(VLOOKUP('促進計画書（受け手）'!#REF!&\"-\"&A78,#REF!,4,FALSE),\"\")","v":""},{"$f":"IFERROR(VLOOKUP('促進計画書（受け手）'!#REF!&\"-\"&A78,#REF!,10,FALSE),\"\")","v":""},{"$f":"IFERROR(VLOOKUP('促進計画書（受け手）'!#REF!&\"-\"&A78,#REF!,12,FALSE),\"\")","v":""},{"$f":"IFERROR(VLOOKUP('促進計画書（受け手）'!#REF!&\"-\"&A78,#REF!,13,FALSE),\"\")","v":""},null,"",""]
[74,{"$f":"IFERROR(VLOOKUP('促進計画書（受け手）'!#REF!&\"-\"&A79,#REF!,2,FALSE),\"\")","v":""},{"$f":"IFERROR(VLOOKUP('促進計画書（受け手）'!#REF!&\"-\"&A79,#REF!,3,FALSE),\"\")","v":""},{"$f":"IFERROR(VLOOKUP('促進計画書（受け手）'!#REF!&\"-\"&A79,#REF!,4,FALSE),\"\")","v":""},{"$f":"IFERROR(VLOOKUP('促進計画書（受け手）'!#REF!&\"-\"&A79,#REF!,10,FALSE),\"\")","v":""},{"$f":"IFERROR(VLOOKUP('促進計画書（受け手）'!#REF!&\"-\"&A79,#REF!,12,FALSE),\"\")","v":""},{"$f":"IFERROR(VLOOKUP('促進計画書（受け手）'!#REF!&\"-\"&A79,#REF!,13,FALSE),\"\")","v":""},null,"",""]
[75,{"$f":"IFERROR(VLOOKUP('促進計画書（受け手）'!#REF!&\"-\"&A80,#REF!,2,FALSE),\"\")","v":""},{"$f":"IFERROR(VLOOKUP('促進計画書（受け手）'!#REF!&\"-\"&A80,#REF!,3,FALSE),\"\")","v":""},{"$f":"IFERROR(VLOOKUP('促進計画書（受け手）'!#REF!&\"-\"&A80,#REF!,4,FALSE),\"\")","v":""},{"$f":"IFERROR(VLOOKUP('促進計画書（受け手）'!#REF!&\"-\"&A80,#REF!,10,FALSE),\"\")","v":""},{"$f":"IFERROR(VLOOKUP('促進計画書（受け手）'!#REF!&\"-\"&A80,#REF!,12,FALSE),\"\")","v":""},{"$f":"IFERROR(VLOOKUP('促進計画書（受け手）'!#REF!&\"-\"&A80,#REF!,13,FALSE),\"\")","v":""},null,"",""]
[76,{"$f":"IFERROR(VLOOKUP('促進計画書（受け手）'!#REF!&\"-\"&A81,#REF!,2,FALSE),\"\")","v":""},{"$f":"IFERROR(VLOOKUP('促進計画書（受け手）'!#REF!&\"-\"&A81,#REF!,3,FALSE),\"\")","v":""},{"$f":"IFERROR(VLOOKUP('促進計画書（受け手）'!#REF!&\"-\"&A81,#REF!,4,FALSE),\"\")","v":""},{"$f":"IFERROR(VLOOKUP('促進計画書（受け手）'!#REF!&\"-\"&A81,#REF!,10,FALSE),\"\")","v":""},{"$f":"IFERROR(VLOOKUP('促進計画書（受け手）'!#REF!&\"-\"&A81,#REF!,12,FALSE),\"\")","v":""},{"$f":"IFERROR(VLOOKUP('促進計画書（受け手）'!#REF!&\"-\"&A81,#REF!,13,FALSE),\"\")","v":""},null,"",""]
[77,{"$f":"IFERROR(VLOOKUP('促進計画書（受け手）'!#REF!&\"-\"&A82,#REF!,2,FALSE),\"\")","v":""},{"$f":"IFERROR(VLOOKUP('促進計画書（受け手）'!#REF!&\"-\"&A82,#REF!,3,FALSE),\"\")","v":""},{"$f":"IFERROR(VLOOKUP('促進計画書（受け手）'!#REF!&\"-\"&A82,#REF!,4,FALSE),\"\")","v":""},{"$f":"IFERROR(VLOOKUP('促進計画書（受け手）'!#REF!&\"-\"&A82,#REF!,10,FALSE),\"\")","v":""},{"$f":"IFERROR(VLOOKUP('促進計画書（受け手）'!#REF!&\"-\"&A82,#REF!,12,FALSE),\"\")","v":""},{"$f":"IFERROR(VLOOKUP('促進計画書（受け手）'!#REF!&\"-\"&A82,#REF!,13,FALSE),\"\")","v":""},null,"",""]
[78,{"$f":"IFERROR(VLOOKUP('促進計画書（受け手）'!#REF!&\"-\"&A83,#REF!,2,FALSE),\"\")","v":""},{"$f":"IFERROR(VLOOKUP('促進計画書（受け手）'!#REF!&\"-\"&A83,#REF!,3,FALSE),\"\")","v":""},{"$f":"IFERROR(VLOOKUP('促進計画書（受け手）'!#REF!&\"-\"&A83,#REF!,4,FALSE),\"\")","v":""},{"$f":"IFERROR(VLOOKUP('促進計画書（受け手）'!#REF!&\"-\"&A83,#REF!,10,FALSE),\"\")","v":""},{"$f":"IFERROR(VLOOKUP('促進計画書（受け手）'!#REF!&\"-\"&A83,#REF!,12,FALSE),\"\")","v":""},{"$f":"IFERROR(VLOOKUP('促進計画書（受け手）'!#REF!&\"-\"&A83,#REF!,13,FALSE),\"\")","v":""},null,"",""]
[79,{"$f":"IFERROR(VLOOKUP('促進計画書（受け手）'!#REF!&\"-\"&A84,#REF!,2,FALSE),\"\")","v":""},{"$f":"IFERROR(VLOOKUP('促進計画書（受け手）'!#REF!&\"-\"&A84,#REF!,3,FALSE),\"\")","v":""},{"$f":"IFERROR(VLOOKUP('促進計画書（受け手）'!#REF!&\"-\"&A84,#REF!,4,FALSE),\"\")","v":""},{"$f":"IFERROR(VLOOKUP('促進計画書（受け手）'!#REF!&\"-\"&A84,#REF!,10,FALSE),\"\")","v":""},{"$f":"IFERROR(VLOOKUP('促進計画書（受け手）'!#REF!&\"-\"&A84,#REF!,12,FALSE),\"\")","v":""},{"$f":"IFERROR(VLOOKUP('促進計画書（受け手）'!#REF!&\"-\"&A84,#REF!,13,FALSE),\"\")","v":""},null,"",""]
[80,{"$f":"IFERROR(VLOOKUP('促進計画書（受け手）'!#REF!&\"-\"&A85,#REF!,2,FALSE),\"\")","v":""},{"$f":"IFERROR(VLOOKUP('促進計画書（受け手）'!#REF!&\"-\"&A85,#REF!,3,FALSE),\"\")","v":""},{"$f":"IFERROR(VLOOKUP('促進計画書（受け手）'!#REF!&\"-\"&A85,#REF!,4,FALSE),\"\")","v":""},{"$f":"IFERROR(VLOOKUP('促進計画書（受け手）'!#REF!&\"-\"&A85,#REF!,10,FALSE),\"\")","v":""},{"$f":"IFERROR(VLOOKUP('促進計画書（受け手）'!#REF!&\"-\"&A85,#REF!,12,FALSE),\"\")","v":""},{"$f":"IFERROR(VLOOKUP('促進計画書（受け手）'!#REF!&\"-\"&A85,#REF!,13,FALSE),\"\")","v":""},null,"",""]
[81,{"$f":"IFERROR(VLOOKUP('促進計画書（受け手）'!#REF!&\"-\"&A86,#REF!,2,FALSE),\"\")","v":""},{"$f":"IFERROR(VLOOKUP('促進計画書（受け手）'!#REF!&\"-\"&A86,#REF!,3,FALSE),\"\")","v":""},{"$f":"IFERROR(VLOOKUP('促進計画書（受け手）'!#REF!&\"-\"&A86,#REF!,4,FALSE),\"\")","v":""},{"$f":"IFERROR(VLOOKUP('促進計画書（受け手）'!#REF!&\"-\"&A86,#REF!,10,FALSE),\"\")","v":""},{"$f":"IFERROR(VLOOKUP('促進計画書（受け手）'!#REF!&\"-\"&A86,#REF!,12,FALSE),\"\")","v":""},{"$f":"IFERROR(VLOOKUP('促進計画書（受け手）'!#REF!&\"-\"&A86,#REF!,13,FALSE),\"\")","v":""},null,"",""]
[82,{"$f":"IFERROR(VLOOKUP('促進計画書（受け手）'!#REF!&\"-\"&A87,#REF!,2,FALSE),\"\")","v":""},{"$f":"IFERROR(VLOOKUP('促進計画書（受け手）'!#REF!&\"-\"&A87,#REF!,3,FALSE),\"\")","v":""},{"$f":"IFERROR(VLOOKUP('促進計画書（受け手）'!#REF!&\"-\"&A87,#REF!,4,FALSE),\"\")","v":""},{"$f":"IFERROR(VLOOKUP('促進計画書（受け手）'!#REF!&\"-\"&A87,#REF!,10,FALSE),\"\")","v":""},{"$f":"IFERROR(VLOOKUP('促進計画書（受け手）'!#REF!&\"-\"&A87,#REF!,12,FALSE),\"\")","v":""},{"$f":"IFERROR(VLOOKUP('促進計画書（受け手）'!#REF!&\"-\"&A87,#REF!,13,FALSE),\"\")","v":""},null,"",""]
[83,{"$f":"IFERROR(VLOOKUP('促進計画書（受け手）'!#REF!&\"-\"&A88,#REF!,2,FALSE),\"\")","v":""},{"$f":"IFERROR(VLOOKUP('促進計画書（受け手）'!#REF!&\"-\"&A88,#REF!,3,FALSE),\"\")","v":""},{"$f":"IFERROR(VLOOKUP('促進計画書（受け手）'!#REF!&\"-\"&A88,#REF!,4,FALSE),\"\")","v":""},{"$f":"IFERROR(VLOOKUP('促進計画書（受け手）'!#REF!&\"-\"&A88,#REF!,10,FALSE),\"\")","v":""},{"$f":"IFERROR(VLOOKUP('促進計画書（受け手）'!#REF!&\"-\"&A88,#REF!,12,FALSE),\"\")","v":""},{"$f":"IFERROR(VLOOKUP('促進計画書（受け手）'!#REF!&\"-\"&A88,#REF!,13,FALSE),\"\")","v":""},null,"",""]
[84,{"$f":"IFERROR(VLOOKUP('促進計画書（受け手）'!#REF!&\"-\"&A89,#REF!,2,FALSE),\"\")","v":""},{"$f":"IFERROR(VLOOKUP('促進計画書（受け手）'!#REF!&\"-\"&A89,#REF!,3,FALSE),\"\")","v":""},{"$f":"IFERROR(VLOOKUP('促進計画書（受け手）'!#REF!&\"-\"&A89,#REF!,4,FALSE),\"\")","v":""},{"$f":"IFERROR(VLOOKUP('促進計画書（受け手）'!#REF!&\"-\"&A89,#REF!,10,FALSE),\"\")","v":""},{"$f":"IFERROR(VLOOKUP('促進計画書（受け手）'!#REF!&\"-\"&A89,#REF!,12,FALSE),\"\")","v":""},{"$f":"IFERROR(VLOOKUP('促進計画書（受け手）'!#REF!&\"-\"&A89,#REF!,13,FALSE),\"\")","v":""},null,"",""]
[85,{"$f":"IFERROR(VLOOKUP('促進計画書（受け手）'!#REF!&\"-\"&A90,#REF!,2,FALSE),\"\")","v":""},{"$f":"IFERROR(VLOOKUP('促進計画書（受け手）'!#REF!&\"-\"&A90,#REF!,3,FALSE),\"\")","v":""},{"$f":"IFERROR(VLOOKUP('促進計画書（受け手）'!#REF!&\"-\"&A90,#REF!,4,FALSE),\"\")","v":""},{"$f":"IFERROR(VLOOKUP('促進計画書（受け手）'!#REF!&\"-\"&A90,#REF!,10,FALSE),\"\")","v":""},{"$f":"IFERROR(VLOOKUP('促進計画書（受け手）'!#REF!&\"-\"&A90,#REF!,12,FALSE),\"\")","v":""},{"$f":"IFERROR(VLOOKUP('促進計画書（受け手）'!#REF!&\"-\"&A90,#REF!,13,FALSE),\"\")","v":""},null,"",""]
[86,{"$f":"IFERROR(VLOOKUP('促進計画書（受け手）'!#REF!&\"-\"&A91,#REF!,2,FALSE),\"\")","v":""},{"$f":"IFERROR(VLOOKUP('促進計画書（受け手）'!#REF!&\"-\"&A91,#REF!,3,FALSE),\"\")","v":""},{"$f":"IFERROR(VLOOKUP('促進計画書（受け手）'!#REF!&\"-\"&A91,#REF!,4,FALSE),\"\")","v":""},{"$f":"IFERROR(VLOOKUP('促進計画書（受け手）'!#REF!&\"-\"&A91,#REF!,10,FALSE),\"\")","v":""},{"$f":"IFERROR(VLOOKUP('促進計画書（受け手）'!#REF!&\"-\"&A91,#REF!,12,FALSE),\"\")","v":""},{"$f":"IFERROR(VLOOKUP('促進計画書（受け手）'!#REF!&\"-\"&A91,#REF!,13,FALSE),\"\")","v":""},null,"",""]
[87,{"$f":"IFERROR(VLOOKUP('促進計画書（受け手）'!#REF!&\"-\"&A92,#REF!,2,FALSE),\"\")","v":""},{"$f":"IFERROR(VLOOKUP('促進計画書（受け手）'!#REF!&\"-\"&A92,#REF!,3,FALSE),\"\")","v":""},{"$f":"IFERROR(VLOOKUP('促進計画書（受け手）'!#REF!&\"-\"&A92,#REF!,4,FALSE),\"\")","v":""},{"$f":"IFERROR(VLOOKUP('促進計画書（受け手）'!#REF!&\"-\"&A92,#REF!,10,FALSE),\"\")","v":""},{"$f":"IFERROR(VLOOKUP('促進計画書（受け手）'!#REF!&\"-\"&A92,#REF!,12,FALSE),\"\")","v":""},{"$f":"IFERROR(VLOOKUP('促進計画書（受け手）'!#REF!&\"-\"&A92,#REF!,13,FALSE),\"\")","v":""},null,"",""]
[88,{"$f":"IFERROR(VLOOKUP('促進計画書（受け手）'!#REF!&\"-\"&A93,#REF!,2,FALSE),\"\")","v":""},{"$f":"IFERROR(VLOOKUP('促進計画書（受け手）'!#REF!&\"-\"&A93,#REF!,3,FALSE),\"\")","v":""},{"$f":"IFERROR(VLOOKUP('促進計画書（受け手）'!#REF!&\"-\"&A93,#REF!,4,FALSE),\"\")","v":""},{"$f":"IFERROR(VLOOKUP('促進計画書（受け手）'!#REF!&\"-\"&A93,#REF!,10,FALSE),\"\")","v":""},{"$f":"IFERROR(VLOOKUP('促進計画書（受け手）'!#REF!&\"-\"&A93,#REF!,12,FALSE),\"\")","v":""},{"$f":"IFERROR(VLOOKUP('促進計画書（受け手）'!#REF!&\"-\"&A93,#REF!,13,FALSE),\"\")","v":""},null,"",""]
[89,{"$f":"IFERROR(VLOOKUP('促進計画書（受け手）'!#REF!&\"-\"&A94,#REF!,2,FALSE),\"\")","v":""},{"$f":"IFERROR(VLOOKUP('促進計画書（受け手）'!#REF!&\"-\"&A94,#REF!,3,FALSE),\"\")","v":""},{"$f":"IFERROR(VLOOKUP('促進計画書（受け手）'!#REF!&\"-\"&A94,#REF!,4,FALSE),\"\")","v":""},{"$f":"IFERROR(VLOOKUP('促進計画書（受け手）'!#REF!&\"-\"&A94,#REF!,10,FALSE),\"\")","v":""},{"$f":"IFERROR(VLOOKUP('促進計画書（受け手）'!#REF!&\"-\"&A94,#REF!,12,FALSE),\"\")","v":""},{"$f":"IFERROR(VLOOKUP('促進計画書（受け手）'!#REF!&\"-\"&A94,#REF!,13,FALSE),\"\")","v":""},null,"",""]
[90,{"$f":"IFERROR(VLOOKUP('促進計画書（受け手）'!#REF!&\"-\"&A95,#REF!,2,FALSE),\"\")","v":""},{"$f":"IFERROR(VLOOKUP('促進計画書（受け手）'!#REF!&\"-\"&A95,#REF!,3,FALSE),\"\")","v":""},{"$f":"IFERROR(VLOOKUP('促進計画書（受け手）'!#REF!&\"-\"&A95,#REF!,4,FALSE),\"\")","v":""},{"$f":"IFERROR(VLOOKUP('促進計画書（受け手）'!#REF!&\"-\"&A95,#REF!,10,FALSE),\"\")","v":""},{"$f":"IFERROR(VLOOKUP('促進計画書（受け手）'!#REF!&\"-\"&A95,#REF!,12,FALSE),\"\")","v":""},{"$f":"IFERROR(VLOOKUP('促進計画書（受け手）'!#REF!&\"-\"&A95,#REF!,13,FALSE),\"\")","v":""},null,"",""]
[91,{"$f":"IFERROR(VLOOKUP('促進計画書（受け手）'!#REF!&\"-\"&A96,#REF!,2,FALSE),\"\")","v":""},{"$f":"IFERROR(VLOOKUP('促進計画書（受け手）'!#REF!&\"-\"&A96,#REF!,3,FALSE),\"\")","v":""},{"$f":"IFERROR(VLOOKUP('促進計画書（受け手）'!#REF!&\"-\"&A96,#REF!,4,FALSE),\"\")","v":""},{"$f":"IFERROR(VLOOKUP('促進計画書（受け手）'!#REF!&\"-\"&A96,#REF!,10,FALSE),\"\")","v":""},{"$f":"IFERROR(VLOOKUP('促進計画書（受け手）'!#REF!&\"-\"&A96,#REF!,12,FALSE),\"\")","v":""},{"$f":"IFERROR(VLOOKUP('促進計画書（受け手）'!#REF!&\"-\"&A96,#REF!,13,FALSE),\"\")","v":""},null,"",""]
[92,{"$f":"IFERROR(VLOOKUP('促進計画書（受け手）'!#REF!&\"-\"&A97,#REF!,2,FALSE),\"\")","v":""},{"$f":"IFERROR(VLOOKUP('促進計画書（受け手）'!#REF!&\"-\"&A97,#REF!,3,FALSE),\"\")","v":""},{"$f":"IFERROR(VLOOKUP('促進計画書（受け手）'!#REF!&\"-\"&A97,#REF!,4,FALSE),\"\")","v":""},{"$f":"IFERROR(VLOOKUP('促進計画書（受け手）'!#REF!&\"-\"&A97,#REF!,10,FALSE),\"\")","v":""},{"$f":"IFERROR(VLOOKUP('促進計画書（受け手）'!#REF!&\"-\"&A97,#REF!,12,FALSE),\"\")","v":""},{"$f":"IFERROR(VLOOKUP('促進計画書（受け手）'!#REF!&\"-\"&A97,#REF!,13,FALSE),\"\")","v":""},null,"",""]
[93,{"$f":"IFERROR(VLOOKUP('促進計画書（受け手）'!#REF!&\"-\"&A98,#REF!,2,FALSE),\"\")","v":""},{"$f":"IFERROR(VLOOKUP('促進計画書（受け手）'!#REF!&\"-\"&A98,#REF!,3,FALSE),\"\")","v":""},{"$f":"IFERROR(VLOOKUP('促進計画書（受け手）'!#REF!&\"-\"&A98,#REF!,4,FALSE),\"\")","v":""},{"$f":"IFERROR(VLOOKUP('促進計画書（受け手）'!#REF!&\"-\"&A98,#REF!,10,FALSE),\"\")","v":""},{"$f":"IFERROR(VLOOKUP('促進計画書（受け手）'!#REF!&\"-\"&A98,#REF!,12,FALSE),\"\")","v":""},{"$f":"IFERROR(VLOOKUP('促進計画書（受け手）'!#REF!&\"-\"&A98,#REF!,13,FALSE),\"\")","v":""},null,"",""]
[94,{"$f":"IFERROR(VLOOKUP('促進計画書（受け手）'!#REF!&\"-\"&A99,#REF!,2,FALSE),\"\")","v":""},{"$f":"IFERROR(VLOOKUP('促進計画書（受け手）'!#REF!&\"-\"&A99,#REF!,3,FALSE),\"\")","v":""},{"$f":"IFERROR(VLOOKUP('促進計画書（受け手）'!#REF!&\"-\"&A99,#REF!,4,FALSE),\"\")","v":""},{"$f":"IFERROR(VLOOKUP('促進計画書（受け手）'!#REF!&\"-\"&A99,#REF!,10,FALSE),\"\")","v":""},{"$f":"IFERROR(VLOOKUP('促進計画書（受け手）'!#REF!&\"-\"&A99,#REF!,12,FALSE),\"\")","v":""},{"$f":"IFERROR(VLOOKUP('促進計画書（受け手）'!#REF!&\"-\"&A99,#REF!,13,FALSE),\"\")","v":""},null,"",""]
[95,{"$f":"IFERROR(VLOOKUP('促進計画書（受け手）'!#REF!&\"-\"&A100,#REF!,2,FALSE),\"\")","v":""},{"$f":"IFERROR(VLOOKUP('促進計画書（受け手）'!#REF!&\"-\"&A100,#REF!,3,FALSE),\"\")","v":""},{"$f":"IFERROR(VLOOKUP('促進計画書（受け手）'!#REF!&\"-\"&A100,#REF!,4,FALSE),\"\")","v":""},{"$f":"IFERROR(VLOOKUP('促進計画書（受け手）'!#REF!&\"-\"&A100,#REF!,10,FALSE),\"\")","v":""},{"$f":"IFERROR(VLOOKUP('促進計画書（受け手）'!#REF!&\"-\"&A100,#REF!,12,FALSE),\"\")","v":""},{"$f":"IFERROR(VLOOKUP('促進計画書（受け手）'!#REF!&\"-\"&A100,#REF!,13,FALSE),\"\")","v":""},null,"",""]
[96,{"$f":"IFERROR(VLOOKUP('促進計画書（受け手）'!#REF!&\"-\"&A101,#REF!,2,FALSE),\"\")","v":""},{"$f":"IFERROR(VLOOKUP('促進計画書（受け手）'!#REF!&\"-\"&A101,#REF!,3,FALSE),\"\")","v":""},{"$f":"IFERROR(VLOOKUP('促進計画書（受け手）'!#REF!&\"-\"&A101,#REF!,4,FALSE),\"\")","v":""},{"$f":"IFERROR(VLOOKUP('促進計画書（受け手）'!#REF!&\"-\"&A101,#REF!,10,FALSE),\"\")","v":""},{"$f":"IFERROR(VLOOKUP('促進計画書（受け手）'!#REF!&\"-\"&A101,#REF!,12,FALSE),\"\")","v":""},{"$f":"IFERROR(VLOOKUP('促進計画書（受け手）'!#REF!&\"-\"&A101,#REF!,13,FALSE),\"\")","v":""},null,"",""]
[97,{"$f":"IFERROR(VLOOKUP('促進計画書（受け手）'!#REF!&\"-\"&A102,#REF!,2,FALSE),\"\")","v":""},{"$f":"IFERROR(VLOOKUP('促進計画書（受け手）'!#REF!&\"-\"&A102,#REF!,3,FALSE),\"\")","v":""},{"$f":"IFERROR(VLOOKUP('促進計画書（受け手）'!#REF!&\"-\"&A102,#REF!,4,FALSE),\"\")","v":""},{"$f":"IFERROR(VLOOKUP('促進計画書（受け手）'!#REF!&\"-\"&A102,#REF!,10,FALSE),\"\")","v":""},{"$f":"IFERROR(VLOOKUP('促進計画書（受け手）'!#REF!&\"-\"&A102,#REF!,12,FALSE),\"\")","v":""},{"$f":"IFERROR(VLOOKUP('促進計画書（受け手）'!#REF!&\"-\"&A102,#REF!,13,FALSE),\"\")","v":""},null,"",""]
[98,{"$f":"IFERROR(VLOOKUP('促進計画書（受け手）'!#REF!&\"-\"&A103,#REF!,2,FALSE),\"\")","v":""},{"$f":"IFERROR(VLOOKUP('促進計画書（受け手）'!#REF!&\"-\"&A103,#REF!,3,FALSE),\"\")","v":""},{"$f":"IFERROR(VLOOKUP('促進計画書（受け手）'!#REF!&\"-\"&A103,#REF!,4,FALSE),\"\")","v":""},{"$f":"IFERROR(VLOOKUP('促進計画書（受け手）'!#REF!&\"-\"&A103,#REF!,10,FALSE),\"\")","v":""},{"$f":"IFERROR(VLOOKUP('促進計画書（受け手）'!#REF!&\"-\"&A103,#REF!,12,FALSE),\"\")","v":""},{"$f":"IFERROR(VLOOKUP('促進計画書（受け手）'!#REF!&\"-\"&A103,#REF!,13,FALSE),\"\")","v":""},null,"",""]
[99,{"$f":"IFERROR(VLOOKUP('促進計画書（受け手）'!#REF!&\"-\"&A104,#REF!,2,FALSE),\"\")","v":""},{"$f":"IFERROR(VLOOKUP('促進計画書（受け手）'!#REF!&\"-\"&A104,#REF!,3,FALSE),\"\")","v":""},{"$f":"IFERROR(VLOOKUP('促進計画書（受け手）'!#REF!&\"-\"&A104,#REF!,4,FALSE),\"\")","v":""},{"$f":"IFERROR(VLOOKUP('促進計画書（受け手）'!#REF!&\"-\"&A104,#REF!,10,FALSE),\"\")","v":""},{"$f":"IFERROR(VLOOKUP('促進計画書（受け手）'!#REF!&\"-\"&A104,#REF!,12,FALSE),\"\")","v":""},{"$f":"IFERROR(VLOOKUP('促進計画書（受け手）'!#REF!&\"-\"&A104,#REF!,13,FALSE),\"\")","v":""},null,"",""]
[100,{"$f":"IFERROR(VLOOKUP('促進計画書（受け手）'!#REF!&\"-\"&A105,#REF!,2,FALSE),\"\")","v":""},{"$f":"IFERROR(VLOOKUP('促進計画書（受け手）'!#REF!&\"-\"&A105,#REF!,3,FALSE),\"\")","v":""},{"$f":"IFERROR(VLOOKUP('促進計画書（受け手）'!#REF!&\"-\"&A105,#REF!,4,FALSE),\"\")","v":""},{"$f":"IFERROR(VLOOKUP('促進計画書（受け手）'!#REF!&\"-\"&A105,#REF!,10,FALSE),\"\")","v":""},{"$f":"IFERROR(VLOOKUP('促進計画書（受け手）'!#REF!&\"-\"&A105,#REF!,12,FALSE),\"\")","v":""},{"$f":"IFERROR(VLOOKUP('促進計画書（受け手）'!#REF!&\"-\"&A105,#REF!,13,FALSE),\"\")","v":""},null,"",""]
[101,{"$f":"IFERROR(VLOOKUP('促進計画書（受け手）'!#REF!&\"-\"&A106,#REF!,2,FALSE),\"\")","v":""},{"$f":"IFERROR(VLOOKUP('促進計画書（受け手）'!#REF!&\"-\"&A106,#REF!,3,FALSE),\"\")","v":""},{"$f":"IFERROR(VLOOKUP('促進計画書（受け手）'!#REF!&\"-\"&A106,#REF!,4,FALSE),\"\")","v":""},{"$f":"IFERROR(VLOOKUP('促進計画書（受け手）'!#REF!&\"-\"&A106,#REF!,10,FALSE),\"\")","v":""},{"$f":"IFERROR(VLOOKUP('促進計画書（受け手）'!#REF!&\"-\"&A106,#REF!,12,FALSE),\"\")","v":""},{"$f":"IFERROR(VLOOKUP('促進計画書（受け手）'!#REF!&\"-\"&A106,#REF!,13,FALSE),\"\")","v":""},null,"",""]
[102,{"$f":"IFERROR(VLOOKUP('促進計画書（受け手）'!#REF!&\"-\"&A107,#REF!,2,FALSE),\"\")","v":""},{"$f":"IFERROR(VLOOKUP('促進計画書（受け手）'!#REF!&\"-\"&A107,#REF!,3,FALSE),\"\")","v":""},{"$f":"IFERROR(VLOOKUP('促進計画書（受け手）'!#REF!&\"-\"&A107,#REF!,4,FALSE),\"\")","v":""},{"$f":"IFERROR(VLOOKUP('促進計画書（受け手）'!#REF!&\"-\"&A107,#REF!,10,FALSE),\"\")","v":""},{"$f":"IFERROR(VLOOKUP('促進計画書（受け手）'!#REF!&\"-\"&A107,#REF!,12,FALSE),\"\")","v":""},{"$f":"IFERROR(VLOOKUP('促進計画書（受け手）'!#REF!&\"-\"&A107,#REF!,13,FALSE),\"\")","v":""},null,"",""]
[103,{"$f":"IFERROR(VLOOKUP('促進計画書（受け手）'!#REF!&\"-\"&A108,#REF!,2,FALSE),\"\")","v":""},{"$f":"IFERROR(VLOOKUP('促進計画書（受け手）'!#REF!&\"-\"&A108,#REF!,3,FALSE),\"\")","v":""},{"$f":"IFERROR(VLOOKUP('促進計画書（受け手）'!#REF!&\"-\"&A108,#REF!,4,FALSE),\"\")","v":""},{"$f":"IFERROR(VLOOKUP('促進計画書（受け手）'!#REF!&\"-\"&A108,#REF!,10,FALSE),\"\")","v":""},{"$f":"IFERROR(VLOOKUP('促進計画書（受け手）'!#REF!&\"-\"&A108,#REF!,12,FALSE),\"\")","v":""},{"$f":"IFERROR(VLOOKUP('促進計画書（受け手）'!#REF!&\"-\"&A108,#REF!,13,FALSE),\"\")","v":""},null,"",""]
[104,{"$f":"IFERROR(VLOOKUP('促進計画書（受け手）'!#REF!&\"-\"&A109,#REF!,2,FALSE),\"\")","v":""},{"$f":"IFERROR(VLOOKUP('促進計画書（受け手）'!#REF!&\"-\"&A109,#REF!,3,FALSE),\"\")","v":""},{"$f":"IFERROR(VLOOKUP('促進計画書（受け手）'!#REF!&\"-\"&A109,#REF!,4,FALSE),\"\")","v":""},{"$f":"IFERROR(VLOOKUP('促進計画書（受け手）'!#REF!&\"-\"&A109,#REF!,10,FALSE),\"\")","v":""},{"$f":"IFERROR(VLOOKUP('促進計画書（受け手）'!#REF!&\"-\"&A109,#REF!,12,FALSE),\"\")","v":""},{"$f":"IFERROR(VLOOKUP('促進計画書（受け手）'!#REF!&\"-\"&A109,#REF!,13,FALSE),\"\")","v":""},null,"",""]
[105,{"$f":"IFERROR(VLOOKUP('促進計画書（受け手）'!#REF!&\"-\"&A110,#REF!,2,FALSE),\"\")","v":""},{"$f":"IFERROR(VLOOKUP('促進計画書（受け手）'!#REF!&\"-\"&A110,#REF!,3,FALSE),\"\")","v":""},{"$f":"IFERROR(VLOOKUP('促進計画書（受け手）'!#REF!&\"-\"&A110,#REF!,4,FALSE),\"\")","v":""},{"$f":"IFERROR(VLOOKUP('促進計画書（受け手）'!#REF!&\"-\"&A110,#REF!,10,FALSE),\"\")","v":""},{"$f":"IFERROR(VLOOKUP('促進計画書（受け手）'!#REF!&\"-\"&A110,#REF!,12,FALSE),\"\")","v":""},{"$f":"IFERROR(VLOOKUP('促進計画書（受け手）'!#REF!&\"-\"&A110,#REF!,13,FALSE),\"\")","v":""},null,"",""]
[106,{"$f":"IFERROR(VLOOKUP('促進計画書（受け手）'!#REF!&\"-\"&A111,#REF!,2,FALSE),\"\")","v":""},{"$f":"IFERROR(VLOOKUP('促進計画書（受け手）'!#REF!&\"-\"&A111,#REF!,3,FALSE),\"\")","v":""},{"$f":"IFERROR(VLOOKUP('促進計画書（受け手）'!#REF!&\"-\"&A111,#REF!,4,FALSE),\"\")","v":""},{"$f":"IFERROR(VLOOKUP('促進計画書（受け手）'!#REF!&\"-\"&A111,#REF!,10,FALSE),\"\")","v":""},{"$f":"IFERROR(VLOOKUP('促進計画書（受け手）'!#REF!&\"-\"&A111,#REF!,12,FALSE),\"\")","v":""},{"$f":"IFERROR(VLOOKUP('促進計画書（受け手）'!#REF!&\"-\"&A111,#REF!,13,FALSE),\"\")","v":""},null,"",""]
[107,{"$f":"IFERROR(VLOOKUP('促進計画書（受け手）'!#REF!&\"-\"&A112,#REF!,2,FALSE),\"\")","v":""},{"$f":"IFERROR(VLOOKUP('促進計画書（受け手）'!#REF!&\"-\"&A112,#REF!,3,FALSE),\"\")","v":""},{"$f":"IFERROR(VLOOKUP('促進計画書（受け手）'!#REF!&\"-\"&A112,#REF!,4,FALSE),\"\")","v":""},{"$f":"IFERROR(VLOOKUP('促進計画書（受け手）'!#REF!&\"-\"&A112,#REF!,10,FALSE),\"\")","v":""},{"$f":"IFERROR(VLOOKUP('促進計画書（受け手）'!#REF!&\"-\"&A112,#REF!,12,FALSE),\"\")","v":""},{"$f":"IFERROR(VLOOKUP('促進計画書（受け手）'!#REF!&\"-\"&A112,#REF!,13,FALSE),\"\")","v":""},null,"",""]
[108,{"$f":"IFERROR(VLOOKUP('促進計画書（受け手）'!#REF!&\"-\"&A113,#REF!,2,FALSE),\"\")","v":""},{"$f":"IFERROR(VLOOKUP('促進計画書（受け手）'!#REF!&\"-\"&A113,#REF!,3,FALSE),\"\")","v":""},{"$f":"IFERROR(VLOOKUP('促進計画書（受け手）'!#REF!&\"-\"&A113,#REF!,4,FALSE),\"\")","v":""},{"$f":"IFERROR(VLOOKUP('促進計画書（受け手）'!#REF!&\"-\"&A113,#REF!,10,FALSE),\"\")","v":""},{"$f":"IFERROR(VLOOKUP('促進計画書（受け手）'!#REF!&\"-\"&A113,#REF!,12,FALSE),\"\")","v":""},{"$f":"IFERROR(VLOOKUP('促進計画書（受け手）'!#REF!&\"-\"&A113,#REF!,13,FALSE),\"\")","v":""},null,"",""]
[109,{"$f":"IFERROR(VLOOKUP('促進計画書（受け手）'!#REF!&\"-\"&A114,#REF!,2,FALSE),\"\")","v":""},{"$f":"IFERROR(VLOOKUP('促進計画書（受け手）'!#REF!&\"-\"&A114,#REF!,3,FALSE),\"\")","v":""},{"$f":"IFERROR(VLOOKUP('促進計画書（受け手）'!#REF!&\"-\"&A114,#REF!,4,FALSE),\"\")","v":""},{"$f":"IFERROR(VLOOKUP('促進計画書（受け手）'!#REF!&\"-\"&A114,#REF!,10,FALSE),\"\")","v":""},{"$f":"IFERROR(VLOOKUP('促進計画書（受け手）'!#REF!&\"-\"&A114,#REF!,12,FALSE),\"\")","v":""},{"$f":"IFERROR(VLOOKUP('促進計画書（受け手）'!#REF!&\"-\"&A114,#REF!,13,FALSE),\"\")","v":""},null,"",""]
[110,{"$f":"IFERROR(VLOOKUP('促進計画書（受け手）'!#REF!&\"-\"&A115,#REF!,2,FALSE),\"\")","v":""},{"$f":"IFERROR(VLOOKUP('促進計画書（受け手）'!#REF!&\"-\"&A115,#REF!,3,FALSE),\"\")","v":""},{"$f":"IFERROR(VLOOKUP('促進計画書（受け手）'!#REF!&\"-\"&A115,#REF!,4,FALSE),\"\")","v":""},{"$f":"IFERROR(VLOOKUP('促進計画書（受け手）'!#REF!&\"-\"&A115,#REF!,10,FALSE),\"\")","v":""},{"$f":"IFERROR(VLOOKUP('促進計画書（受け手）'!#REF!&\"-\"&A115,#REF!,12,FALSE),\"\")","v":""},{"$f":"IFERROR(VLOOKUP('促進計画書（受け手）'!#REF!&\"-\"&A115,#REF!,13,FALSE),\"\")","v":""},null,"",""]
[111,{"$f":"IFERROR(VLOOKUP('促進計画書（受け手）'!#REF!&\"-\"&A116,#REF!,2,FALSE),\"\")","v":""},{"$f":"IFERROR(VLOOKUP('促進計画書（受け手）'!#REF!&\"-\"&A116,#REF!,3,FALSE),\"\")","v":""},{"$f":"IFERROR(VLOOKUP('促進計画書（受け手）'!#REF!&\"-\"&A116,#REF!,4,FALSE),\"\")","v":""},{"$f":"IFERROR(VLOOKUP('促進計画書（受け手）'!#REF!&\"-\"&A116,#REF!,10,FALSE),\"\")","v":""},{"$f":"IFERROR(VLOOKUP('促進計画書（受け手）'!#REF!&\"-\"&A116,#REF!,12,FALSE),\"\")","v":""},{"$f":"IFERROR(VLOOKUP('促進計画書（受け手）'!#REF!&\"-\"&A116,#REF!,13,FALSE),\"\")","v":""},null,"",""]
[112,{"$f":"IFERROR(VLOOKUP('促進計画書（受け手）'!#REF!&\"-\"&A117,#REF!,2,FALSE),\"\")","v":""},{"$f":"IFERROR(VLOOKUP('促進計画書（受け手）'!#REF!&\"-\"&A117,#REF!,3,FALSE),\"\")","v":""},{"$f":"IFERROR(VLOOKUP('促進計画書（受け手）'!#REF!&\"-\"&A117,#REF!,4,FALSE),\"\")","v":""},{"$f":"IFERROR(VLOOKUP('促進計画書（受け手）'!#REF!&\"-\"&A117,#REF!,10,FALSE),\"\")","v":""},{"$f":"IFERROR(VLOOKUP('促進計画書（受け手）'!#REF!&\"-\"&A117,#REF!,12,FALSE),\"\")","v":""},{"$f":"IFERROR(VLOOKUP('促進計画書（受け手）'!#REF!&\"-\"&A117,#REF!,13,FALSE),\"\")","v":""},null,"",""]
[113,{"$f":"IFERROR(VLOOKUP('促進計画書（受け手）'!#REF!&\"-\"&A118,#REF!,2,FALSE),\"\")","v":""},{"$f":"IFERROR(VLOOKUP('促進計画書（受け手）'!#REF!&\"-\"&A118,#REF!,3,FALSE),\"\")","v":""},{"$f":"IFERROR(VLOOKUP('促進計画書（受け手）'!#REF!&\"-\"&A118,#REF!,4,FALSE),\"\")","v":""},{"$f":"IFERROR(VLOOKUP('促進計画書（受け手）'!#REF!&\"-\"&A118,#REF!,10,FALSE),\"\")","v":""},{"$f":"IFERROR(VLOOKUP('促進計画書（受け手）'!#REF!&\"-\"&A118,#REF!,12,FALSE),\"\")","v":""},{"$f":"IFERROR(VLOOKUP('促進計画書（受け手）'!#REF!&\"-\"&A118,#REF!,13,FALSE),\"\")","v":""},null,"",""]
[114,{"$f":"IFERROR(VLOOKUP('促進計画書（受け手）'!#REF!&\"-\"&A119,#REF!,2,FALSE),\"\")","v":""},{"$f":"IFERROR(VLOOKUP('促進計画書（受け手）'!#REF!&\"-\"&A119,#REF!,3,FALSE),\"\")","v":""},{"$f":"IFERROR(VLOOKUP('促進計画書（受け手）'!#REF!&\"-\"&A119,#REF!,4,FALSE),\"\")","v":""},{"$f":"IFERROR(VLOOKUP('促進計画書（受け手）'!#REF!&\"-\"&A119,#REF!,10,FALSE),\"\")","v":""},{"$f":"IFERROR(VLOOKUP('促進計画書（受け手）'!#REF!&\"-\"&A119,#REF!,12,FALSE),\"\")","v":""},{"$f":"IFERROR(VLOOKUP('促進計画書（受け手）'!#REF!&\"-\"&A119,#REF!,13,FALSE),\"\")","v":""},null,"",""]
[115,{"$f":"IFERROR(VLOOKUP('促進計画書（受け手）'!#REF!&\"-\"&A120,#REF!,2,FALSE),\"\")","v":""},{"$f":"IFERROR(VLOOKUP('促進計画書（受け手）'!#REF!&\"-\"&A120,#REF!,3,FALSE),\"\")","v":""},{"$f":"IFERROR(VLOOKUP('促進計画書（受け手）'!#REF!&\"-\"&A120,#REF!,4,FALSE),\"\")","v":""},{"$f":"IFERROR(VLOOKUP('促進計画書（受け手）'!#REF!&\"-\"&A120,#REF!,10,FALSE),\"\")","v":""},{"$f":"IFERROR(VLOOKUP('促進計画書（受け手）'!#REF!&\"-\"&A120,#REF!,12,FALSE),\"\")","v":""},{"$f":"IFERROR(VLOOKUP('促進計画書（受け手）'!#REF!&\"-\"&A120,#REF!,13,FALSE),\"\")","v":""},null,"",""]
[116,{"$f":"IFERROR(VLOOKUP('促進計画書（受け手）'!#REF!&\"-\"&A121,#REF!,2,FALSE),\"\")","v":""},{"$f":"IFERROR(VLOOKUP('促進計画書（受け手）'!#REF!&\"-\"&A121,#REF!,3,FALSE),\"\")","v":""},{"$f":"IFERROR(VLOOKUP('促進計画書（受け手）'!#REF!&\"-\"&A121,#REF!,4,FALSE),\"\")","v":""},{"$f":"IFERROR(VLOOKUP('促進計画書（受け手）'!#REF!&\"-\"&A121,#REF!,10,FALSE),\"\")","v":""},{"$f":"IFERROR(VLOOKUP('促進計画書（受け手）'!#REF!&\"-\"&A121,#REF!,12,FALSE),\"\")","v":""},{"$f":"IFERROR(VLOOKUP('促進計画書（受け手）'!#REF!&\"-\"&A121,#REF!,13,FALSE),\"\")","v":""},null,"",""]
[117,{"$f":"IFERROR(VLOOKUP('促進計画書（受け手）'!#REF!&\"-\"&A122,#REF!,2,FALSE),\"\")","v":""},{"$f":"IFERROR(VLOOKUP('促進計画書（受け手）'!#REF!&\"-\"&A122,#REF!,3,FALSE),\"\")","v":""},{"$f":"IFERROR(VLOOKUP('促進計画書（受け手）'!#REF!&\"-\"&A122,#REF!,4,FALSE),\"\")","v":""},{"$f":"IFERROR(VLOOKUP('促進計画書（受け手）'!#REF!&\"-\"&A122,#REF!,10,FALSE),\"\")","v":""},{"$f":"IFERROR(VLOOKUP('促進計画書（受け手）'!#REF!&\"-\"&A122,#REF!,12,FALSE),\"\")","v":""},{"$f":"IFERROR(VLOOKUP('促進計画書（受け手）'!#REF!&\"-\"&A122,#REF!,13,FALSE),\"\")","v":""},null,"",""]

{"sheet":"ボツ","index":4,"n_rows":202,"n_cols":29,"rows_kept":202,"cut":false,"hidden":true,"merged":[[59,1,59,3],[59,4,61,4],[59,15,59,17],[60,1,60,2],[60,15,60,17],[61,1,61,3],[61,12,61,14],[61,15,64,15],[61,16,62,17],[62,1,62,2],[62,4,62,5],[62,12,62,14],[63,1,63,3],[63,16,64,17],[64,1,64,2],[55,1,58,3],[55,4,55,6],[55,16,55,17],[55,18,55,20],[55,21,55,22],[55,23,55,25],[55,26,55,28],[56,4,58,9],[56,12,57,22],[58,12,58,14],[58,15,58,22],[56,10,58,11],[10,18,12,21],[10,3,12,7],[15,3,18,7],[48,2,49,4],[16,18,16,19],[13,12,13,13],[14,12,18,13],[48,14,49,14],[48,15,49,16],[48,17,49,18],[48,19,49,19],[44,12,45,12],[44,13,45,13],[44,14,45,14],[44,15,45,16],[48,20,49,20],[48,21,49,23],[25,17,25,18],[25,21,27,23],[13,2,18,2],[8,15,12,17],[13,15,18,17],[8,12,8,13],[44,21,45,23],[48,24,49,25],[46,20,47,20],[46,21,47,23],[46,24,47,25],[8,8,8,11],[9,8,9,11],[10,8,10,11],[11,8,12,11],[13,8,13,11],[14,8,14,11],[15,8,15,11],[16,8,17,11],[18,8,18,11],[36,19,37,19],[36,20,37,20],[36,21,37,23],[36,24,37,25],[32,14,33,14],[32,15,33,16],[32,17,33,18],[32,19,33,19],[32,20,33,20],[32,21,33,23],[32,24,33,25],[8,1,12,1],[8,2,12,2],[48,26,49,26],[48,27,49,27],[48,28,49,28],[2,22,2,23],[2,24,2,27],[3,22,4,23],[3,24,4,27],[5,22,5,27],[6,22,6,27],[8,22,8,27],[9,22,9,27],[10,22,10,25],[11,22,12,27],[14,28,18,28],[13,22,13,27],[14,22,14,27],[15,22,15,27],[16,22,17,27],[18,22,18,27],[48,12,49,12],[48,13,49,13],[46,26,47,26],[48,0,49,0],[48,1,49,1],[48,5,49,7],[48,8,49,8],[48,9,49,9],[48,11,49,11],[44,26,45,26],[44,27,45,27],[44,28,45,28],[46,0,47,0],[46,1,47,1],[46,2,47,2],[46,3,47,3],[46,4,47,4],[46,5,47,7],[46,8,47,8],[46,9,47,9],[46,11,47,11],[46,12,47,12],[46,13,47,13],[46,14,47,14],[46,15,47,16],[46,17,47,18],[46,19,47,19],[44,24,45,25],[44,0,45,0],[44,1,45,1],[44,2,45,2],[44,3,45,3],[44,4,45,4],[44,5,45,7],[44,8,45,8],[44,9,45,9],[44,11,45,11],[36,26,37,26],[36,27,37,27],[36,28,37,28],[38,0,39,0],[38,1,39,1],[38,2,39,2],[38,3,39,3],[38,4,39,4],[38,5,39,7],[38,8,39,8],[38,9,39,9],[38,11,39,11],[38,12,39,12],[38,13,39,13],[38,14,39,14],[38,15,39,16],[38,17,39,18],[38,19,39,19],[38,20,39,20],[38,21,39,23],[36,17,37,18],[36,8,37,8],[36,9,37,9],[36,11,37,11],[32,28,33,28],[34,0,35,0],[34,1,35,1],[34,2,35,2],[34,3,35,3],[34,4,35,4],[34,5,35,7],[34,8,35,8],[34,9,35,9],[34,11,35,11],[34,12,35,12],[34,13,35,13],[34,14,35,14],[34,15,35,16],[34,17,35,18],[34,19,35,19],[34,20,35,20],[34,21,35,23],[34,24,35,25],[34,26,35,26],[34,27,35,27],[34,28,35,28],[32,0,33,0],[32,1,33,1],[32,26,33,26],[32,27,33,27],[32,2,33,2],[32,3,33,3],[32,4,33,4],[32,5,33,7],[32,8,33,8],[32,9,33,9],[32,11,33,11],[32,12,33,12],[32,13,33,13],[30,17,31,18],[30,19,31,19],[30,20,31,20],[30,21,31,23],[30,24,31,25],[30,26,31,26],[30,27,31,27],[30,28,31,28],[28,26,29,26],[28,27,29,27],[30,0,31,0],[30,1,31,1],[30,2,31,2],[30,3,31,3],[30,4,31,4],[30,5,31,7],[30,8,31,8],[30,9,31,9],[30,11,31,11],[27,24,27,25],[28,14,29,14],[28,15,29,16],[28,17,29,18],[28,19,29,19],[28,20,29,20],[28,21,29,23],[28,24,29,25],[28,28,29,28],[9,12,12,13],[24,28,27,28],[25,0,27,0],[26,5,27,7],[26,8,27,8],[26,17,26,18],[26,24,26,25],[26,9,27,9],[27,17,27,18],[24,1,24,10],[24,11,24,19],[24,20,27,20],[24,21,24,27],[25,1,27,1],[25,2,25,7],[25,8,25,9],[25,10,26,10],[25,11,27,11],[25,12,27,12],[25,15,27,16],[25,24,25,25],[25,27,27,27],[26,2,27,2],[26,3,27,3],[42,0,43,0],[42,1,43,1],[42,2,43,2],[42,3,43,3],[42,4,43,4],[191,18,191,19],[42,19,43,19],[28,0,29,0],[28,1,29,1],[28,2,29,2],[28,3,29,3],[28,4,29,4],[36,2,37,2],[36,3,37,3],[36,4,37,4],[36,5,37,7],[36,0,37,0],[36,1,37,1],[28,5,29,7],[28,8,29,8],[28,9,29,9],[28,11,29,11],[28,12,29,12],[28,13,29,13],[40,0,41,0],[40,1,41,1],[40,2,41,2],[40,3,41,3],[40,4,41,4],[40,5,41,7],[40,8,41,8],[40,9,41,9],[40,11,41,11],[38,26,39,26],[38,27,39,27],[38,28,39,28],[40,12,41,12],[40,13,41,13],[40,14,41,14],[40,15,41,16],[40,17,41,18],[40,19,41,19],[38,24,39,25],[40,20,41,20],[40,21,41,23],[40,24,41,25],[40,26,41,26],[40,27,41,27],[40,28,41,28],[42,24,43,25],[42,26,43,26],[42,27,43,27],[42,28,43,28],[197,1,197,4],[197,5,197,11],[197,12,197,17],[191,1,191,4],[191,5,191,11],[191,12,191,17],[42,5,43,7],[42,8,43,8],[42,9,43,9],[42,11,43,11],[42,12,43,12],[42,13,43,13],[42,14,43,14],[42,15,43,16],[42,17,43,18],[44,17,45,18],[44,19,45,19],[44,20,45,20],[46,27,47,27],[46,28,47,28],[20,8,20,11],[20,1,22,2],[20,3,20,7],[201,1,202,13],[192,1,192,4],[192,5,192,11],[192,12,192,17],[192,18,192,19],[196,1,196,4],[196,5,196,11],[196,12,196,17],[199,16,200,17],[202,18,202,21],[42,20,43,20],[42,21,43,23],[36,12,37,12],[36,13,37,13],[36,14,37,14],[36,15,37,16],[26,4,27,4],[30,12,31,12],[30,13,31,13],[30,14,31,14],[30,15,31,16]]}
["（様式1-4-７）農用地利用集積等促進計画）"]
[]
[null,null,null,null,null,null,null,null,null,null,null,null,null,null,null,null,null,null,null,null,null,null,"市町",null,"区域名"]
[null,null,null,"　　　農用地利用集積等促進計画",null,null,null,null,null,null,null,null,null,null,null,null,null,null,null,null,null,null,null,null,""]
[]
[null,null,"［機構に対する農地中間管理権の設定等］",null,null,null,null,null,null,null,null,null,null,null,null,null,"［機構による賃借権の設定等］",null,null,null,null,null,"賃料支払開始年月日"]
[]
[]
[null,"整理番号","農地中間管理権の設定等を行う者（貸付人:地権者等）\n（Ａ）",null,null,null,null,null,"ﾌﾘｶﾞﾅ",null,null,null,"同意印",null,null,"賃借権の設定等を受ける者\n（借受人：耕作者）\n（Ｂ）",null,null,null,null,null,null,"ﾌﾘｶﾞﾅ",null,null,null,null,null,"同意印"]
[null,null,null,"（住所）〒",null,null,null,null,null,null,null,null,null,null,null,null,null,null,"（住所）〒",null,null,null,""]
[null,null,null,"出し手住所",null,null,null,null,"（氏名又は名称）",null,null,null,null,null,null,null,null,null,null,null,null,null,"（氏名又は名称）"]
[]
[]
[null,null,"農地中間管理権の設定等を受ける者（借受人：公社）",null,null,null,null,null,"ﾌﾘｶﾞﾅ",null,null,null,"同意印",null,null,"賃借権の設定等を行う者\n（貸付人：公社）",null,null,null,null,null,null,"ﾌﾘｶﾞﾅ",null,null,null,null,null,"同意印"]
[null,null,null,"（住所）〒","420-0853",null,null,null,"ｼｽﾞｵｶｹﾝﾉｳｷﾞｮｳｼﾝｺｳｺｳｼｬﾘｼﾞﾁｮｳ",null,null,null,"理事長印",null,null,null,null,null,"（住所）〒",null,null,null,"同　　左",null,null,null,null,null,"理事長印"]
[null,null,null,"静岡市葵区追手町9番18号　静岡中央ビル7F",null,null,null,null,"（氏名又は名称）",null,null,null,null,null,null,null,null,null,null,null,null,null,"（氏名又は名称）"]
[null,null,null,null,null,null,null,null,"公益社団法人静岡県農業振興公社",null,null,null,null,null,null,null,null,null,"同　　　左",null,null,null,"公益社団法人静岡県農業振興公社"]
[]
[null,null,null,null,null,null,null,null,"理事長   ○○　○○",null,null,null,null,null,null,null,null,null,null,null,null,null,"理事長   ○○　○○"]
[]
[null,"農地中間管理権の設定等に係る地域計画（C)",null,"地域計画の公告日等",null,null,null,null,"地域計画の区域"]
[null,null,null,null,null,null,null,null,"地域名"]
[null,null,null,null,null,null,null,null,"区　域"]
["１　各筆明細"]
[null,"農地中間管理権の設定等を行う土地（D）",null,null,null,null,null,null,null,null,null,"設定する賃借権等（E）",null,null,null,null,null,null,null,null,"農地中間管理権の設定等に係る当事者間の法律関係(F)","（Ｄ）の土地の（Ａ）以外の権原者等（Ｇ）",null,null,null,null,null,null,"備　考"]
["筆番号","地区区分","所　　　　在",null,null,null,null,null,"地　目",null,"一部の面積の権利設定等は上段に\n（　）書き","賃借権等の種類","内容(利用目的作物等)",null,null,"存続期間\n（年月）",null,"10a当たり",null,null,null,"住所",null,null,"氏　名",null,"権原の","同意印"]
[null,null,"市町","大字 ","字","地　　番",null,null,"登記簿","現況",null,null,null,"始期","終期",null,null,"の借賃",null,"借賃料",null,null,null,null,"又　は",null,"種類"]
[null,null,null,null,null,null,null,null,null,null,"面積　㎡",null,null,null,null,null,null,"円",null,"円",null,null,null,null,"名　称"]
[1,"",null,null,null,null,null,null,null,null,null,null,null,null,null,null,null,null,null,null,null,null,null,null,null,null,null,null,""]
[]
[null,"",null,null,null,null,null,null,null,null,null,null,null,null,null,null,null,null,null,null,null,null,null,null,null,null,null,null,""]
[]
[null,null,null,null,null,null,null,null,null,null,null,null,null,null,null,null,null,null,null,null,null,null,null,null,null,null,null,null,""]
[]
[null,null,null,null,null,null,null,null,null,null,null,null,null,null,null,null,null,null,null,null,null,null,null,null,null,null,null,null,""]
[]
[null,null,null,null,null,null,null,null,null,null,null,null,null,null,null,null,null,null,null,null,null,null,null,null,null,null,null,null,""]
[]
[null,null,null,null,null,null,null,null,null,null,null,null,null,null,null,null,null,null,null,null,null,null,null,null,null,null,null,null,""]
[]
[null,null,null,null,null,null,null,null,null,null,null,null,null,null,null,null,null,null,null,null,null,null,null,null,null,null,null,null,""]
[]
[null,null,null,null,null,null,null,null,null,null,null,null,null,null,null,null,null,null,null,null,null,null,null,null,null,null,null,null,""]
[]
[null,null,null,null,null,null,null,null,null,null,null,null,null,null,null,null,null,null,null,null,null,null,null,null,null,null,null,null,""]
[]
[null,null,null,null,null,null,null,null,null,null,null,null,null,null,null,null,null,null,null,null,null,null,null,null,null,null,null,null,""]
[]
[null,null,"計"]
[]
[]
["（注）ア　「地区区分」欄は、農振地域内の農用地区域の農用地等には１を、同じく農用地区域外の農用地等には２を、その他の区域の場合は３を記入する。　"]
["　　　イ　共通事項は別紙のとおり"]
[]
[]
[null,"利用権の設定等を　　　　受ける土地の面積(A)",null,null,"氏名又は名称",null,null,null,null,null,null,null,null,null,null,"性別",null,null,"農業従事日数",null,null,"日",null,"家畜の飼養状況",null,null,"農機具の所有状況"]
[null,null,null,null,"現に耕作又は養畜の事業に供している　　　　　　　　　農用地の面積(B)",null,null,null,null,null,"主たる経営       作目(Ｃ)",null,"世帯員(構成員)の農作業従事及び雇用労働力の状況(D)",null,null,null,null,null,null,null,null,null,null,"乳牛",null,"頭","耕耘機",null,"台"]
[null,null,null,null,null,null,null,null,null,null,null,null,null,null,null,null,null,null,null,null,null,null,null,"肥育牛",null,"頭","トラクター",null,"台"]
[null,null,null,null,null,null,null,null,null,null,null,null,"世帯員(構成員)",null,null,"農業従事者(うち１５歳以上６０歳未満の者)",null,null,null,null,null,null,null,"豚",null,"頭","もみすり機",null,"台"]
[null,"農地",null,null,"農地","自作地",null,null,null,"㎡",null,null,null,null,null,"農業専従者",null,null,null,null,null,null,null,"鶏",null,"羽","乾燥機",null,"台"]
[null,null,null,"㎡",null,"借入地",null,null,null,"㎡",null,null,null,null,"人","（年150日以上従事）",null,null,null,null,"人　　（",null,"人）",null,null,null,"田植機",null,"台"]
[null,"採草放牧地",null,null,null,"合計",null,null,null,"㎡",null,null,"農業雇用労働力",null,null,"農　　　業　　　補　　　助　　　者","主として農業に従事する者",null,null,null,null,null,null,null,null,null,"コンバイン",null,"台"]
[null,{"$error":"#REF!"},null,"㎡","採草放牧地",null,null,null,null,"㎡",null,null,"（年間延日数）",null,null,null,null,null,null,null,"人　　（",null,"人）",null,null,null,"トラック",null,"台"]
[null,"その他",null,null,null,null,null,null,null,null,null,null,null,null,null,null,"従として農業に従事する者"]
[null,{"$error":"#REF!"},null,"㎡",null,null,null,null,null,null,null,null,null,null,"延人日",null,null,null,null,null,"人　　（",null,"人）"]
[]
[]
[]
[]
["（様式1-4-7）集積等促進計画",null,null,null,null,null,null,null,null,null,null,null,null,null,null,null,null,null,null,null,null,null,null,null,null,null,null,null,"[ 促進計画 ]"]
[]
[null,"（記　載　注　意）"]
[]
[null,"(１)　１の各筆明細は地権者、耕作者ごとに別葉とする。"]
[]
[null,"(２)　地権者等または耕作者が法人の場合は、（Ａ）、（Ｂ）欄の「氏名又は名称」は、会社名、肩書き並びに代表者名を記載する。なお、同意印は、「社印」ではなく「代表者印」を押印する。"]
[]
[null,"（３）　（C）欄は、地域計画の公告日、地区名、地域内農業集落名を記入する。地域計画が未設定の場合は、なしと記入する。"]
[]
[null,"(４)（Ｄ）欄の「面積」は土地登記簿等によるものとし、土地登記簿等の地積が著しく事実と相違する場合、土地登記簿等の面積がない場合及び土地改良事業による一時利用"]
[null,"     の指定を受けた土地の場合には、実測面積を（　）書きで上段に２段書きする。なお、１筆の一部について農地中間管理権、賃借権等が設定される場合には、○○○○㎡の内○○○㎡"]
[null,"     と記載し、当該部分を特定することのできる図面を添付するとともに、備考欄にその旨を記載する。"]
[]
[null,"(５)（Ｅ）欄の「賃借権等の種類」は、「賃借権」又は「使用貸借権」のいずれかを記載する。"]
[]
[null,"(６)（Ｅ）欄の「内容」は、賃借権等の設定による当該土地の利用目的（水稲、野菜（レタス）、施設野菜（いちご）、果樹（みかん）、茶、樹園地（その他）、農業用"]
[null,"     施設用地（畜舎）　等）を記載する。"]
[]
[null,"(７)（Ｅ）欄の「存続期間（年月）」は、「○年○ヶ月」と記載する。"]
[]
[null,"(８)（Ｅ）欄の「借賃料」は、当該土地の１年分の借賃（期間設定借地の場合には、利用期間に係る年分の借賃）の額を記載する。"]
[]
[null,"(９)（F）欄は、（Ｄ）欄の「賃借権等の種類」に対応して「賃貸借」又は「使用貸借」のいずれかを記載する。"]
[]
[null,"(10)（Ｇ）欄は、共有の場合に記載する。権原の種類は所有権、地上権、永小作権　等と記載する。（Ａ）欄以外の権原者がいない場合は記入を要しない。"]
[]
[]
["（様式1-4-7）集積等促進計画",null,null,null,null,null,null,null,null,null,null,null,null,null,null,null,null,null,null,null,null,null,null,null,null,null,null,null,"[ 促進計画 ]"]
[]
[null,"２　共通事項"]
[null,null,"・この農用地利用集積等促進計画において農地中間管理機構（以下「機構」という。）とは、公益社団法人静岡県農業振興公社をいう。"]
[null,null,"・この農用地利用集積等促進計画の定めるところにより設定される農地中間管理権は、１の各筆明細に定めるもののほか、次に定めるところによる。"]
[null,"（１）農地中間管理権の設定"]
[null,"　　　１の各筆明細に記載された土地（以下「当該土地」という。）の農地中間管理権は、この農用地利用集積等促進計画の認可公告により設定される。"]
[null,"　　　１の各筆明細に定める機構による賃借権又は使用貸借権による権利の設定（以下「賃借権の設定等」という。）は、賃借権の設定等を受ける者（以下「耕作者」という。）が"]
[null,"　　　当該賃借権の設定等を受けた土地について、当該農用地等を適正に利用していないと認められるときは、解除をすることができる。"]
[]
[null,"（２）借賃料の支払・徴収方法"]
[null,null,"ア　借賃料の支払い方法"]
[null,null,"　機構は、借賃料を毎年12月20日（金融機関が休日の場合は、その翌日とする。）に、農地中間管理権の設定等を受けた日から１年分を、農地中間管理権を設定する者"]
[null,null,"（以下「地権者」という。）の指定の預金口座に振り込むものとする。ただし、当該年度の10月以降に借り受けた場合には、翌年度の12月20日に支払うものとする。"]
[null,null,"イ　借賃料の徴収方法"]
[null,null,"　機構は、借賃料を毎年12月10日(金融機関が休日の場合は、その翌日とする。)に、機構が当該農地を借り受けた日から１年分の借賃料（ただし、機構が当該農地を借り受けてから耕作者に貸し出すまでの"]
[null,null,"　期間は控除する）を耕作者から申出のあった預金口座から徴収するものとする。ただし、当該年度の10月以降に借り受けた農地を耕作者に貸し付けた場合は、翌年度の12月10日に徴収するものとする。"]
[]
[null,"（３）借賃料の増減額の請求"]
[null,"　　　地権者及び耕作者は、当該土地の１の各筆明細に記載された面積と実測面積との間に差異があっても、異議を述べず、また、借賃料の増減を請求しない。"]
[]
[null,"（４）借賃料の改定"]
[null,"　　　この農用地利用集積等促進計画を定めた後に、借賃料を改定する必要が生じた場合は、農地法（昭和27年法律第229号）第52条に基づく農業委員会が提供する借賃料の動向を勘案して"]
[null,"     機構、 地権者、耕作者が協議して定める額に改定する。"]
[]
[null,"（５）借賃料の支払猶予"]
[null,"  　　機構は、耕作者が災害その他やむを得ない事由のため、１の各筆明細に記載された借賃料を支払期限までに支払うことができない場合には、相当と認められる期間までその支払を猶予することができる。"]
[]
[null,"（６）延滞金"]
[]
[null,null,"ア　耕作者は、１の各筆明細に定める借賃料を期日までに支払わない場合は、機構に対し、支払期日の翌日から支払日までの間を計算期間とする延滞金を支払わなければならない。"]
[null,null,"イ　延滞金は、借賃料の額に対し、年１０．９５パーセントの割合で計算して得た額とする。ただし、理事長が認めた場合にはこの限りでない。"]
[]
[null,"（７）解約にあたっての相手方の同意"]
[null,"　　　地権者及び耕作者は、１の各筆明細に定める農地中間管理権、賃借権等の設定期間の中途において解約しようとする場合には、機構及び相手方の同意を得るものとする。"]
[]
[null,"（８）転貸又は譲渡"]
[null,null,"　　耕作者は、この農用地利用集積等促進計画により賃借権等の設定を受けた土地について、当該土地に係る権利を設定若しくは譲渡をしてはならない。"]
[]
[null,"（９）境界の明示"]
[null,"　　　地権者は、当該土地の引渡しの時期までに、自己の費用をもって現地において隣地との境界を明示する。"]
[]
[null,"（10）負担の除去"]
[null,"　　　地権者は、当該土地の引渡しの時期までに、原則として機構及び耕作者の賃借権等の行使を阻害する要因を除去するとともに、賃借権等の設定期間中においても、賃借権等の行使の妨げとな"]
[null,"      る行為を行ってはならない。"]
[]
[null,"（11）修繕及び改良"]
[null," 　 ア　地権者は、機構及び耕作者の責に帰すべき事由によらないで生じた当該土地の損耗について、自らの費用と責任において当該土地を修繕する。ただし、緊急を要するときその他   "]
[null,"     　地権者において修繕することができない場合で地権者の同意を得たときは、機構が修繕し又は耕作者に修繕させることができる。"]
[null,"　　   この場合において、機構又は耕作者が修繕の費用を支出したときは、地権者に対して、修繕に要した費用を請求することができる。"]
[null," 　 イ　機構は、地権者の同意を得て当該土地の改良を行い又は耕作者に改良を行わせることができる。ただし、その改良が軽微である場合には、地権者の同意を要しない。"]
[null,"　  ウ　修繕費又は改良費の負担及び償還は、別表１に定めたものを除き、民法、その他関係法令に従う。"]
[]
[null,"（12）附属物の取扱い"]
[null,"　　ア　機構は、耕作者が行う附属物の収去等に対しては、その義務を負わないものとする。"]
[null,"　　イ　機構は、植栽、伐採、客土その他土地の形質変更及び農用地等に既に設置されている又は新たに設置される附属物の取扱いについては、耕作者と地権者の双方が協議の上、"]
[null,"　　　書面により合意することを求めるものとする。"]
["（様式1-4-7）集積等促進計画"]
[]
[null,"（13）租税公課等の負担"]
[null,"　  ア　地権者は、当該土地に係る固定資産税その他の租税を負担する。"]
[null,"　  イ　当該土地に係る農業保険法（昭和22年法律第185号）に基づく共済掛金及び賦課金は、耕作者が負担する。"]
[null,"　  ウ　当該土地に係る土地改良区の賦課金等は、別表２に定めるところによる。"]
[null,"　  エ　その他当該土地の通常の維持管理に要する経費は、耕作者が負担する。"]
[]
[null,"（14) 賃貸借権又は使用貸借権の解除"]
[null,"  　　機構は、農地中間管理事業の推進に関する法律（平成25年法律第101号）第20条第1号又は第2号に該当するときは、知事の承認を受けて、耕作者が取得した賃貸借権又は使"]
[null,"      用貸借権を解除することができる。"]
[]
[null,"（15）農地中間管理権、賃借権等の消滅"]
[null,"　　　天災地変その他、機構、地権者及び耕作者の責に帰すべからざる理由により当該土地の全部又は一部が滅失し、その目的を達することができなくなったときは、この農用地利用集積等促進計画"]
[null,"      の定めるところにより設定された農地中間管理権、賃借権等は消滅する。"]
[]
[null," (16) 目的物の返還"]
[null,"　　  賃借権等の存続期間が満了したときは、耕作者は、その満了の日から30日以内に、地権者に対して、当該土地を原状に回復して返還する。（附属物の取扱いについては（12）による。）"]
[null,"　　　ただし、災害その他の不可抗力、修繕若しくは改良行為又は当該土地の通常の利用によって生じた形質の変更については、耕作者は、原状回復の義務を負わない。"]
[null,"　　　また、機構は、いかなる場合も原状回復の義務を負わないものとする。"]
[]
[null,"（17）農地中間管理権、賃借権等に関する事項の変更の禁止"]
[null,"　　  機構、地権者及び耕作者は、この農用地利用集積等促進計画の定めるところにより設定される農地中間管理権、賃借権等に関する事項は変更しないものとする。"]
[null,"　　　ただし、地権者、耕作者、市町及び機構が協議の上、真にやむを得ないと認められる場合は、この限りでない。"]
[]
[null,"（18）賃借権等取得者の責務"]
[null,"　　  耕作者は、この農用地利用集積等促進計画に定めるところに従い、当該土地を効率的かつ適正に利用しなければならない。"]
[]
[null,"（19）機構関連事業の実施"]
[null,"　　　機構が農地中間管理権を有している農用地等については、土地改良法第87条の３第１項の土地改良事業が行われることがある。なお、県が事業を実施する際には、"]
[null,"　　　あらためて説明会等が開催される。"]
[]
[null,"（20）その他"]
[null,"　　  この農用地利用集積等促進計画に定めのない事項及びこの農用地利用集積等促進計画に疑義が生じたときは、機構、地権者、耕作者及び市町が協議して定める。"]
[]
["    別表１　修繕費及び改良費の負担に係る事項"]
["　  　　※ 修繕費又は改良費の内容及び負担者区分等  "]
[null," 修繕又は改良の工事名",null,null,null,"地権者及び耕作者の費用に関する\n支払区分の内容",null,null,null,null,null,null,"地権者及び耕作者の支払額について\n負担すべき額及び方法",null,null,null,null,null,"備考"]
[null,"",null,null,null,"",null,null,null,null,null,null,"",null,null,null,null,null,""]
[]
["    別表２　土地改良区の賦課金等に係る事項　"]
["　  ※ 土地改良区の賦課金等の種類及び負担者区分  "]
[null,"賦課金等の種類",null,null,null,"負担区分の内容",null,null,null,null,null,null,"備　　　　考"]
[null,"",null,null,null,"",null,null,null,null,null,null,""]
[]
["    別表３　その他特記事項　",null,null,null,null,null,null,null,null,null,null,null,null,null,null,null,"備　考"]
[]
[null,""]